BEGIN:VCALENDAR
VERSION:2.0
PRODID:-//ACA Detroit - ECPv6.15.20//NONSGML v1.0//EN
CALSCALE:GREGORIAN
METHOD:PUBLISH
X-ORIGINAL-URL:https://acadetroit.org
X-WR-CALDESC:Events for ACA Detroit
REFRESH-INTERVAL;VALUE=DURATION:PT1H
X-Robots-Tag:noindex
X-PUBLISHED-TTL:PT1H
BEGIN:VTIMEZONE
TZID:UTC
BEGIN:STANDARD
TZOFFSETFROM:+0000
TZOFFSETTO:+0000
TZNAME:UTC
DTSTART:20240101T000000
END:STANDARD
END:VTIMEZONE
BEGIN:VEVENT
DTSTART;TZID=UTC:20250906T100000
DTEND;TZID=UTC:20250906T140000
DTSTAMP:20260424T050523
CREATED:20250618T173642Z
LAST-MODIFIED:20250825T152748Z
UID:11982-1757152800-1757167200@acadetroit.org
SUMMARY:ACA’s Chinese Community Center Celebrates 20 Years of Anchoring the Community
DESCRIPTION:A Steady Home in a Changing World\n  \nOpen House & Reunion Celebration Set for Saturday\, September 6\, 2025 \nMadison Heights\, MI — [June 18\, 2025] — The Association of Chinese Americans (ACA) is proud to announce the 20th Anniversary Celebration of its Chinese Community Center (CCC)—“20 Years of Anchoring\, A Steady Home in a Changing World.” Since opening its doors in August 2005\, the CCC has been a beloved and welcoming home for the Metro Detroit community. \nTo mark this milestone\, ACA invites donors\, friends\, and community members to an Open House & Community Reunion on Saturday\, September 6\, 2025 at 32585 Concord Drive\, Madison Heights\, MI 48071. The celebration will run from 10:00AM – 2:00PM\, and will feature live remarks\, cultural performances\, interactive exhibits\, and a special tree-planting ceremony to symbolize hope\, growth\, and enduring community support. \nThe CCC’s legacy is made possible thanks to the vision and generosity of early supporters\, especially Mason and Grace Yu\, Helen and Clyde Wu\, and the Ford Motor Company Fund (Ford Foundation). Their generosity helped turn the dream of a permanent gathering place for our community into a reality. \nFor 20 years\, the CCC has anchored our community—serving as a hub for cultural exchange\, senior services\, youth programs\, language education\, and civic engagement. The Open House will offer a walk through the center’s rich history\, chances to reconnect with friends old and new\, and opportunities to dream together about the future. \n“We are thrilled to welcome back our friends\, participants\, volunteers\, donors\, and supporters\,” said Peggy Du\, Executive Director of ACA. “This anniversary is not just a reflection on the past 20 years—it’s a celebration of the relationships and shared values that continue to move us forward.” \nThe event is free and open to the public. Light refreshments will be served. \nRSVP is encouraged Click Here to Register. \nFor more information\, please visit www.acadetroit.org or call ACA at 248-585-9343 or 313-813-1790.
URL:https://acadetroit.org/events-calendar/acas-chinese-community-center-celebrates-20-years-of-anchoring-the-community/
LOCATION:ACA Chinese Community Center\, 32585 Concord Drive\, Madison Heights\, MI\, 48071-1141\, United States
CATEGORIES:Events
END:VEVENT
END:VCALENDAR