BEGIN:VCALENDAR
VERSION:2.0
PRODID:-//ACA Detroit - ECPv6.15.20//NONSGML v1.0//EN
CALSCALE:GREGORIAN
METHOD:PUBLISH
X-WR-CALNAME:ACA Detroit
X-ORIGINAL-URL:https://acadetroit.org
X-WR-CALDESC:Events for ACA Detroit
REFRESH-INTERVAL;VALUE=DURATION:PT1H
X-Robots-Tag:noindex
X-PUBLISHED-TTL:PT1H
BEGIN:VTIMEZONE
TZID:UTC
BEGIN:STANDARD
TZOFFSETFROM:+0000
TZOFFSETTO:+0000
TZNAME:UTC
DTSTART:20240101T000000
END:STANDARD
END:VTIMEZONE
BEGIN:VEVENT
DTSTART;TZID=UTC:20250202T110000
DTEND;TZID=UTC:20250202T150000
DTSTAMP:20260424T183026
CREATED:20250107T202813Z
LAST-MODIFIED:20250107T210145Z
UID:11282-1738494000-1738508400@acadetroit.org
SUMMARY:ACA Hosts Lunar New Year Community Fair 2025 at Eastern Market
DESCRIPTION:  \nDetroit\, MI — December 19\, 2024 — The Association of Chinese Americans (ACA) is excited to announce its highly anticipated Lunar New Year Community Fair 2025\, celebrating the Year of the Snake on Sunday\, February 2\, 2025\, from 11:00 AM to 3:00 PM\, at Eastern Market Shed 5 in Detroit. \nThis family-friendly\, free event invites the community to join in a vibrant celebration of cultural diversity and shared traditions. With cultural performances\, authentic foods\, traditional crafts\, and interactive activities\, the event promises an unforgettable experience for all ages. \n“Our Lunar New Year Community Fair is about bringing people together to celebrate not only Chinese culture but also the many rich traditions observed across Asia during Lunar New Year\,” said Peggy Du\, Executive Director of ACA. “It’s a celebration of unity\, diversity\, and the spirit of sharing.” \nEvent Highlights\n\nCultural Performances: Enjoy live performances representing diverse Asian cultures.\nAuthentic Foods: Savor delicious dishes that highlight the culinary traditions of Lunar New Year.\nTraditional Crafts: Explore hands-on activities and crafts for the whole family.\nVendors and Exhibitors: Discover unique goods and services from local businesses and community organizations.\nLive DJ: Groove to festive beats while soaking in the vibrant atmosphere.\n\nWhile the event is free and open to the public\, attendees are encouraged to RSVP in advance to receive a special red envelope upon arrival. \nGet your ticket for free here
URL:https://acadetroit.org/events-calendar/aca-hosts-lunar-new-year-community-fair-2025-at-eastern-market/
LOCATION:Eastern Market Shed 5\, 2810 Russell St\, Detroit\, MI\, 48207\, United States
CATEGORIES:Events
ORGANIZER;CN="Association of Chinese Americans":MAILTO:acadetroit@acaccc.org
END:VEVENT
END:VCALENDAR