BEGIN:VCALENDAR
VERSION:2.0
PRODID:-//ACA Detroit - ECPv6.15.20//NONSGML v1.0//EN
CALSCALE:GREGORIAN
METHOD:PUBLISH
X-WR-CALNAME:ACA Detroit
X-ORIGINAL-URL:https://acadetroit.org
X-WR-CALDESC:Events for ACA Detroit
REFRESH-INTERVAL;VALUE=DURATION:PT1H
X-Robots-Tag:noindex
X-PUBLISHED-TTL:PT1H
BEGIN:VTIMEZONE
TZID:UTC
BEGIN:STANDARD
TZOFFSETFROM:+0000
TZOFFSETTO:+0000
TZNAME:UTC
DTSTART:20230101T000000
END:STANDARD
END:VTIMEZONE
BEGIN:VEVENT
DTSTART;TZID=UTC:20250304T090000
DTEND;TZID=UTC:20250304T110000
DTSTAMP:20260423T203356
CREATED:20250109T164120Z
LAST-MODIFIED:20250109T165133Z
UID:11336-1741078800-1741086000@acadetroit.org
SUMMARY:Health Screening Fair - (Detroit) 03/04/2025
DESCRIPTION:
URL:https://acadetroit.org/events-calendar/health-screening-fair-detroit-03-4-2025/
LOCATION:ACA Detroit Service Center\, 4750 Woodward Avenue\, #211\, Detroit\, MI\, 48201
CATEGORIES:Health Screening Fair
ORGANIZER;CN="Association of Chinese Americans":MAILTO:acadetroit@acaccc.org
END:VEVENT
BEGIN:VEVENT
DTSTART;TZID=UTC:20250215T090000
DTEND;TZID=UTC:20250215T113000
DTSTAMP:20260423T203356
CREATED:20250107T201811Z
LAST-MODIFIED:20250107T210007Z
UID:11270-1739610000-1739619000@acadetroit.org
SUMMARY:Health Screening Fair - (Madison Heights) 02/15/2025
DESCRIPTION:
URL:https://acadetroit.org/events-calendar/health-screening-fair-madison-heights-02-15-2025/
LOCATION:ACA Chinese Community Center\, 32585 Concord Drive\, Madison Heights\, MI\, 48071-1141\, United States
CATEGORIES:Health Screening Fair
ORGANIZER;CN="Association of Chinese Americans":MAILTO:acadetroit@acaccc.org
END:VEVENT
BEGIN:VEVENT
DTSTART;TZID=UTC:20250114T090000
DTEND;TZID=UTC:20250114T110000
DTSTAMP:20260423T203356
CREATED:20250107T201654Z
LAST-MODIFIED:20250107T210121Z
UID:11269-1736845200-1736852400@acadetroit.org
SUMMARY:Health Screening Fair - (Detroit) 01/14/2025
DESCRIPTION:
URL:https://acadetroit.org/events-calendar/health-screening-fair-detroit-01-14-2025/
LOCATION:ACA Detroit Service Center\, 4750 Woodward Avenue\, #211\, Detroit\, MI\, 48201
CATEGORIES:Health Screening Fair
ORGANIZER;CN="Association of Chinese Americans":MAILTO:acadetroit@acaccc.org
END:VEVENT
BEGIN:VEVENT
DTSTART;TZID=UTC:20241203T090000
DTEND;TZID=UTC:20241203T113000
DTSTAMP:20260423T203356
CREATED:20240701T153653Z
LAST-MODIFIED:20240701T153653Z
UID:10537-1733216400-1733225400@acadetroit.org
SUMMARY:Health Screening Fair - (Detroit) 12/3/2024
DESCRIPTION:
URL:https://acadetroit.org/events-calendar/health-screening-fair-detroit-12-3-2024/
LOCATION:ACA Detroit Service Center\, 4750 Woodward Avenue\, #211\, Detroit\, MI\, 48201
CATEGORIES:Health Screening Fair
ORGANIZER;CN="Association of Chinese Americans":MAILTO:acadetroit@acaccc.org
END:VEVENT
BEGIN:VEVENT
DTSTART;TZID=UTC:20241116T090000
DTEND;TZID=UTC:20241116T113000
DTSTAMP:20260423T203356
CREATED:20240430T151200Z
LAST-MODIFIED:20240531T152129Z
UID:2852-1731747600-1731756600@acadetroit.org
SUMMARY:Health Screening Fair - (Madison Heights) 11/16/2024
DESCRIPTION:
URL:https://acadetroit.org/events-calendar/health-screening-fair-11-16-2024/
LOCATION:ACA Chinese Community Center\, 32585 Concord Drive\, Madison Heights\, MI\, 48071-1141\, United States
CATEGORIES:Health Screening Fair
ORGANIZER;CN="Association of Chinese Americans":MAILTO:acadetroit@acaccc.org
END:VEVENT
BEGIN:VEVENT
DTSTART;TZID=UTC:20241008T090000
DTEND;TZID=UTC:20241008T113000
DTSTAMP:20260423T203356
CREATED:20240701T153600Z
LAST-MODIFIED:20240701T153600Z
UID:10535-1728378000-1728387000@acadetroit.org
SUMMARY:Health Screening Fair - (Detroit) 10/8/2024
DESCRIPTION:
URL:https://acadetroit.org/events-calendar/health-screening-fair-detroit-10-8-2024/
LOCATION:ACA Detroit Service Center\, 4750 Woodward Avenue\, #211\, Detroit\, MI\, 48201
CATEGORIES:Health Screening Fair
ORGANIZER;CN="Association of Chinese Americans":MAILTO:acadetroit@acaccc.org
END:VEVENT
BEGIN:VEVENT
DTSTART;TZID=UTC:20240907T090000
DTEND;TZID=UTC:20240907T113000
DTSTAMP:20260423T203356
CREATED:20240430T151109Z
LAST-MODIFIED:20240531T152213Z
UID:2850-1725699600-1725708600@acadetroit.org
SUMMARY:Health Screening Fair - (Madison Heights) 9/7/2024
DESCRIPTION:
URL:https://acadetroit.org/events-calendar/health-screening-fair-9-7-2024/
LOCATION:ACA Chinese Community Center\, 32585 Concord Drive\, Madison Heights\, MI\, 48071-1141\, United States
CATEGORIES:Health Screening Fair
ORGANIZER;CN="Association of Chinese Americans":MAILTO:acadetroit@acaccc.org
END:VEVENT
BEGIN:VEVENT
DTSTART;TZID=UTC:20240806T090000
DTEND;TZID=UTC:20240806T113000
DTSTAMP:20260423T203356
CREATED:20240701T153501Z
LAST-MODIFIED:20240701T153501Z
UID:10533-1722934800-1722943800@acadetroit.org
SUMMARY:Health Screening Fair - (Detroit) 8/6/2024
DESCRIPTION:
URL:https://acadetroit.org/events-calendar/health-screening-fair-detroit-8-6-2024/
LOCATION:ACA Detroit Service Center\, 4750 Woodward Avenue\, #211\, Detroit\, MI\, 48201
CATEGORIES:Health Screening Fair
ORGANIZER;CN="Association of Chinese Americans":MAILTO:acadetroit@acaccc.org
END:VEVENT
BEGIN:VEVENT
DTSTART;TZID=UTC:20240713T090000
DTEND;TZID=UTC:20240713T113000
DTSTAMP:20260423T203356
CREATED:20240430T151022Z
LAST-MODIFIED:20240531T152247Z
UID:2848-1720861200-1720870200@acadetroit.org
SUMMARY:Health Screening Fair - (Madison Heights) 7/13/2024
DESCRIPTION:
URL:https://acadetroit.org/events-calendar/health-screening-fair-7-13-2024/
LOCATION:ACA Chinese Community Center\, 32585 Concord Drive\, Madison Heights\, MI\, 48071-1141\, United States
CATEGORIES:Health Screening Fair
ORGANIZER;CN="Association of Chinese Americans":MAILTO:acadetroit@acaccc.org
END:VEVENT
BEGIN:VEVENT
DTSTART;TZID=UTC:20240604T090000
DTEND;TZID=UTC:20240604T110000
DTSTAMP:20260423T203356
CREATED:20240430T151504Z
LAST-MODIFIED:20240531T152616Z
UID:2854-1717491600-1717498800@acadetroit.org
SUMMARY:Health Screening Fair - (Detroit) 6/4/2024
DESCRIPTION:
URL:https://acadetroit.org/events-calendar/health-screening-fair-6-4-2024/
LOCATION:ACA Detroit Service Center\, 4750 Woodward Avenue\, #211\, Detroit\, MI\, 48201
CATEGORIES:Health Screening Fair
ORGANIZER;CN="Association of Chinese Americans":MAILTO:acadetroit@acaccc.org
END:VEVENT
BEGIN:VEVENT
DTSTART;TZID=UTC:20240504T090000
DTEND;TZID=UTC:20240504T113000
DTSTAMP:20260423T203356
CREATED:20240417T201916Z
LAST-MODIFIED:20240531T152718Z
UID:1668-1714813200-1714822200@acadetroit.org
SUMMARY:Health Screening Fair - (Detroit) 5/4/2024
DESCRIPTION:
URL:https://acadetroit.org/events-calendar/health-screening-fair-5-4-2024/
LOCATION:ACA Chinese Community Center\, 32585 Concord Drive\, Madison Heights\, MI\, 48071-1141\, United States
CATEGORIES:Health Screening Fair
ORGANIZER;CN="Association of Chinese Americans":MAILTO:acadetroit@acaccc.org
END:VEVENT
END:VCALENDAR