BEGIN:VCALENDAR
VERSION:2.0
PRODID:-//ACA Detroit - ECPv6.15.20//NONSGML v1.0//EN
CALSCALE:GREGORIAN
METHOD:PUBLISH
X-ORIGINAL-URL:https://acadetroit.org
X-WR-CALDESC:Events for ACA Detroit
REFRESH-INTERVAL;VALUE=DURATION:PT1H
X-Robots-Tag:noindex
X-PUBLISHED-TTL:PT1H
BEGIN:VTIMEZONE
TZID:UTC
BEGIN:STANDARD
TZOFFSETFROM:+0000
TZOFFSETTO:+0000
TZNAME:UTC
DTSTART:20250101T000000
END:STANDARD
END:VTIMEZONE
BEGIN:VEVENT
DTSTART;TZID=UTC:20260218T090000
DTEND;TZID=UTC:20260218T110000
DTSTAMP:20260423T220258
CREATED:20260109T184602Z
LAST-MODIFIED:20260109T184602Z
UID:12799-1771405200-1771412400@acadetroit.org
SUMMARY:Health Screening Fair - (Detroit) 02/18/2026
DESCRIPTION:
URL:https://acadetroit.org/events-calendar/health-screening-fair-detroit-02-18-2026/
LOCATION:ACA Detroit Service Center\, 4750 Woodward Avenue\, #211\, Detroit\, MI\, 48201
CATEGORIES:Health Screening Fair
ORGANIZER;CN="Association of Chinese Americans":MAILTO:acadetroit@acaccc.org
END:VEVENT
BEGIN:VEVENT
DTSTART;TZID=UTC:20260222T110000
DTEND;TZID=UTC:20260222T150000
DTSTAMP:20260423T220258
CREATED:20260106T165527Z
LAST-MODIFIED:20260213T201247Z
UID:12769-1771758000-1771772400@acadetroit.org
SUMMARY:2026 Lunar New Year Community Fair
DESCRIPTION:The 2026 Lunar New Year Community Fair will feature: \n\nCultural performances from Asian and community groups\nFood vendors and community booths\nInteractive activities and family-friendly programming\nOpportunities to learn about Lunar New Year traditions and symbolism\n\nGet your tickets here \n\nACA is currently accepting applications for: \n\nEvent Sponsors\nClick to Apply Food and Community Vendors\nClick to Apply Cultural Performers and Performance Groups\n\nBusinesses\, organizations\, and artists interested in participating are encouraged to apply early\, as space is limited. Sponsorship opportunities offer meaningful visibility and engagement with thousands of community members while supporting ACA’s mission-driven programs serving the Asian Pacific American community in Metro Detroit. \n  \nLunar New Year Festival 2025 Recap \nYou are also welcome to check out the details from our 2025 Lunar New Year Festival recap. \nACA’s Lunar New Year Community Fair Draws Over 2\,000 Attendees in a Spectacular Celebration
URL:https://acadetroit.org/events-calendar/2026-lunar-new-year-community-fair/
LOCATION:Eastern Market Shed 5\, 2810 Russell St\, Detroit\, MI\, 48207\, United States
ATTACH;FMTTYPE=image/png:https://acadetroit.org/wp-content/uploads/2025/12/Eventbrite-Banner-2026-05.png
ORGANIZER;CN="Association of Chinese Americans":MAILTO:acadetroit@acaccc.org
END:VEVENT
BEGIN:VEVENT
DTSTART;TZID=UTC:20260307T090000
DTEND;TZID=UTC:20260307T113000
DTSTAMP:20260423T220258
CREATED:20260109T182720Z
LAST-MODIFIED:20260109T185234Z
UID:12789-1772874000-1772883000@acadetroit.org
SUMMARY:Health Screening Fair - (Madison Heights) 03/07/2026
DESCRIPTION:
URL:https://acadetroit.org/events-calendar/health-screening-fair-madison-heights-03-07-2026/
LOCATION:ACA Chinese Community Center\, 32585 Concord Drive\, Madison Heights\, MI\, 48071-1141\, United States
CATEGORIES:Health Screening Fair
ORGANIZER;CN="Association of Chinese Americans":MAILTO:acadetroit@acaccc.org
END:VEVENT
BEGIN:VEVENT
DTSTART;TZID=UTC:20260319T080000
DTEND;TZID=UTC:20260410T120000
DTSTAMP:20260423T220258
CREATED:20260319T174116Z
LAST-MODIFIED:20260319T183332Z
UID:13282-1773907200-1775822400@acadetroit.org
SUMMARY:ACA Evergreen Academic 2026 Spring Activities Registration 2026 美华常青学苑春季课程注册
DESCRIPTION:学有所乐，乐在常青\n美华常青学苑 2026 春季课程开始报名！\n春天万物复苏，是学习新知识、培养新兴趣的最好时节。 \n美华协会 常青学苑 2026 春季课程 现已正式开放报名，欢迎社区朋友们加入学习的行列，在轻松愉快的课堂中丰富生活、结识朋友，让这个春天更加充实精彩。 \n常青学苑致力于为社区提供温馨、友好的学习环境，通过多元课程让大家在日常生活中持续学习、持续成长，也让中华文化在社区中不断传承。 \n🌿 课程丰富多样\n春季课程涵盖多个领域，例如： \n\n语言类课程\n文化艺术类课程\n健康养生类课程（如太极等）\n生活兴趣类课程\n\n课程既注重知识性，也强调互动与实用性，让每位学员都能找到自己感兴趣的学习内容。 \n🌿 温馨的社区课堂\n常青学苑不仅是学习的地方，更是社区交流的平台。 \n在这里，大家可以结识志同道合的朋友，在学习中交流，在交流中成长。 \n📍 上课地点\n🏛 美华协会华人社区中心 \n📍 32585 Concord Drive \nMadison Heights\, MI 48071 \n地理位置便利，交通方便。很多学员也会在上课后顺路到附近亚洲超市采购，让学习与生活安排更加轻松。 \n📝 报名信息\n📅 报名与缴费截止日期 \n周五 04/10/2026，中午 12:00 p.m. \n名额有限，请大家尽早完成报名与缴费，以免错过心仪课程。 \n📌 开课人数说明 \n\n每项课程 满 10 人开课\n每门课程 最多 30 人\n\n📅 节假日停课说明\n春季课程期间，如遇法定节假日将 不补课： \n\n5/25 阵亡将士纪念日（Memorial Day）\n6/19 六月黑奴解放纪念日（Juneteenth）\n\n以上日期课程暂停一次。 \n💡 报名费用\n为了回馈社区学员，常青学苑继续为美华会员提供特别优惠： \n🎉 美华会员注册费：$10 / 季 \n👥 非会员注册费：$40 / 季 \n成为美华会员不仅可以享受课程优惠，还能参与更多社区文化与健康活动。  \n在此注册 Register Here  \n \n \n 
URL:https://acadetroit.org/events-calendar/13282/
END:VEVENT
BEGIN:VEVENT
DTSTART;TZID=UTC:20260319T080000
DTEND;TZID=UTC:20260531T170000
DTSTAMP:20260423T220258
CREATED:20260319T182024Z
LAST-MODIFIED:20260319T183304Z
UID:13297-1773907200-1780246800@acadetroit.org
SUMMARY:2026 Summer Camp Registration 2026美华青少年文化夏令营注册
DESCRIPTION:2026年度美华青少年文化夏令营现已正式开放报名！\n \n \n在这里，孩子们不仅可以认识新朋友、参与丰富多彩的活动，还能在轻松愉快的环境中接触中华文化，让这个夏天更加有意义。 \n📅 夏令营时间\n2026年夏令营共 三周： \n\n第一周：7月6日 – 7月10日\n第二周：7月13日 – 7月17日\n第三周：7月20日 – 7月24日\n\n🕘 营地时间\n周一至周五 8:45 AM – 4:00 PM \n家长可以根据孩子的时间安排选择 一周、两周或三周参加。 \n⏰ Extended Care（延时照护）\n为了方便家长的工作时间安排，我们提供 Extended Care 延时服务： \n💲 $50 / 周 \n具体时间安排将在报名后提供详细信息。 \n \n🎨 夏令营活动内容\n美华青少年文化夏令营以 文化体验 + 趣味学习 + 团队活动 为特色，课程丰富多样，例如： \n\n中华文化体验\n传统艺术与手工活动\n中国故事与文化知识\n音乐、舞蹈与表演\n团队游戏与户外活动\n\n通过互动式课程与游戏式学习，让孩子在快乐中学习，在活动中成长。 \n🌟 为什么选择美华夏令营？\n✔ 文化传承 \n让孩子在轻松有趣的活动中接触中华文化。 \n✔ 寓教于乐 \n通过丰富活动培养创造力与团队精神。 \n✔ 结交新朋友 \n孩子们可以认识来自不同学校的新朋友。 \n✔ 安全温馨的环境 \n由经验丰富的老师和工作人员带领，让家长安心。 \n💲 夏令营费用\n🎉 美华会员价：$249 / 周 \n👥 非会员价：$279 / 周 \n家长可根据孩子的时间安排选择参加的周数。4月30日前注册可享受早鸟折扣$10 off/人。 \n📍 活动地点\nRisen Christ Lutheran Church \n46250 Ann Arbor Road \nPlymouth\, MI 48170 \n场地宽敞、安全，拥有适合青少年学习与活动的空间，为孩子们提供一个充满活力的夏令营环境。 \n📝 如何报名\n夏令营名额有限，建议家长尽早报名，以确保孩子的席位，在此登记报名。
URL:https://acadetroit.org/events-calendar/2026-summer-camp/
END:VEVENT
BEGIN:VEVENT
DTSTART;TZID=UTC:20260409T090000
DTEND;TZID=UTC:20260409T110000
DTSTAMP:20260423T220258
CREATED:20260109T184905Z
LAST-MODIFIED:20260109T184905Z
UID:12803-1775725200-1775732400@acadetroit.org
SUMMARY:Health Screening Fair - (Detroit) 04/09/2026
DESCRIPTION:
URL:https://acadetroit.org/events-calendar/health-screening-fair-detroit-04-09-2026/
LOCATION:ACA Detroit Service Center\, 4750 Woodward Avenue\, #211\, Detroit\, MI\, 48201
CATEGORIES:Health Screening Fair
ORGANIZER;CN="Association of Chinese Americans":MAILTO:acadetroit@acaccc.org
END:VEVENT
BEGIN:VEVENT
DTSTART;TZID=UTC:20260413T080000
DTEND;TZID=UTC:20260531T233000
DTSTAMP:20260423T220258
CREATED:20260413T145601Z
LAST-MODIFIED:20260413T151150Z
UID:13353-1776067200-1780270200@acadetroit.org
SUMMARY:2026 OCA National Convention T-Shirt Design
DESCRIPTION:Design the Future: 2026 OCA National Convention T-Shirt Design Contest Now Open\nThis summer\, a defining moment for the Asian American\, Native Hawaiian\, and Pacific Islander (AANHPI) community will take place in Detroit. \nAs anticipation builds for the 2026 OCA National Convention\, we are pleased to announce the launch of one of the convention’s most creative and visible traditions: \nThe 2026 OCA National Convention T-Shirt Design Contest is now open. \nThis is an opportunity to share your perspective\, showcase your creativity\, and contribute to a design that will be worn by attendees from across the country. \n \nApplication Form Here\n  \nAbout \nOCA – Asian Pacific American Advocates\nFounded in 1973\, OCA – Asian Pacific American Advocates is a leading national organization dedicated to advancing the social\, political\, and economic well-being of Asian American\, Native Hawaiian\, and Pacific Islander communities. \nWith more than 50 chapters and affiliates across the United States\, OCA works to promote civic engagement\, support youth leadership\, expand educational opportunities\, and strengthen community connections nationwide. \n\n  \nA Homecoming in Detroit\nThe 2026 convention carries particular significance as it returns to Detroit. \nAssociation of Chinese Americans (ACA)\, one of OCA’s founding organizations established in 1972\, has long served the Detroit community through cultural programming\, social services\, and advocacy. \nHosting the national convention in Detroit represents not only a major gathering\, but also a meaningful homecoming. \n\n  \nConvention Details\n2026 OCA National Convention \nJuly 23–26\, 2026\nDetroit\, Michigan \nLeaders\, advocates\, students\, and community members from across the country will come together to exchange ideas\, build partnerships\, and shape the future of the AANHPI community. \n\n  \n2026 Theme: Motown Momentum\nMOTOWN MOMENTUM: IGNITING NEW ENERGY\, INSPIRING ALL GENERATIONS \nThe 2026 theme draws inspiration from Detroit’s defining identity. \n“Motown” originates from “Motor Town\,” reflecting Detroit’s historic role as the center of the American automobile industry\, home to companies such as Ford Motor Company\, General Motors\, and Chrysler. \nThe term gained global recognition through the founding of Motown Records in 1960 by Berry Gordy. The label helped shape modern popular music through artists such as Stevie Wonder\, Diana Ross\, Marvin Gaye\, The Temptations\, and Jackson 5. \nToday\, Motown represents more than a musical genre. It reflects a spirit of innovation\, resilience\, creativity\, and cross-generational cultural influence. \nThe theme “Motown Momentum” calls on us to build on that legacy by bringing together different generations\, igniting new energy\, and advancing the future of AANHPI communities. \n\n  \nThe T-Shirt Design Contest\nThe official convention T-shirt is more than a commemorative item. It serves as a shared symbol of identity\, unity\, and purpose. \nParticipants are invited to interpret this year’s theme and translate it into a compelling visual design. Whether drawing inspiration from Detroit’s industrial heritage\, its musical legacy\, or the diversity of the AANHPI community\, submissions should reflect the spirit of the convention. \n\n  \nWhat the Winner Receives\nThe selected designer will receive one full convention registration \nIn addition\, the winning design will be featured as the official 2026 OCA National Convention T-shirt and worn by attendees from across the United States. \n\n  \nSubmission Guidelines\n\nAll entries must be original work\nThe winner will be determined through OCA board voting\nThe contest is open to all participants\n\nDesigners are encouraged to keep the number of colors minimal to ensure high-quality production. \n\n  \nDeadline\nMay 31\, 2026 at 11:59 PM EST \n\n  \nContact\nFor questions\, please contact:\nhojin.kim@ocanational.org \n\n  \nBe Part of the Momentum\nThis is an opportunity to contribute to a national gathering that celebrates community\, culture\, and collective progress. \nThrough design\, participants can help shape how this moment is seen\, shared\, and remembered. \nJoin us in Detroit and be part of defining the momentum forward. \n 
URL:https://acadetroit.org/events-calendar/2026-oca-national-convention-t-shirt-design/
END:VEVENT
BEGIN:VEVENT
DTSTART;TZID=UTC:20260509T090000
DTEND;TZID=UTC:20260509T113000
DTSTAMP:20260423T220258
CREATED:20260109T184006Z
LAST-MODIFIED:20260109T185223Z
UID:12791-1778317200-1778326200@acadetroit.org
SUMMARY:Health Screening Fair - (Madison Heights) 05/09/2026
DESCRIPTION:
URL:https://acadetroit.org/events-calendar/health-screening-fair-madison-heights-05-09-2026/
LOCATION:ACA Chinese Community Center\, 32585 Concord Drive\, Madison Heights\, MI\, 48071-1141\, United States
CATEGORIES:Health Screening Fair
ORGANIZER;CN="Association of Chinese Americans":MAILTO:acadetroit@acaccc.org
END:VEVENT
BEGIN:VEVENT
DTSTART;TZID=UTC:20260603T090000
DTEND;TZID=UTC:20260603T110000
DTSTAMP:20260423T220258
CREATED:20260109T185350Z
LAST-MODIFIED:20260109T185350Z
UID:12805-1780477200-1780484400@acadetroit.org
SUMMARY:Health Screening Fair - (Detroit) 06/03/2026
DESCRIPTION:
URL:https://acadetroit.org/events-calendar/health-screening-fair-detroit-06-03-2026/
LOCATION:ACA Detroit Service Center\, 4750 Woodward Avenue\, #211\, Detroit\, MI\, 48201
CATEGORIES:Health Screening Fair
ORGANIZER;CN="Association of Chinese Americans":MAILTO:acadetroit@acaccc.org
END:VEVENT
BEGIN:VEVENT
DTSTART;TZID=UTC:20260711T090000
DTEND;TZID=UTC:20260711T113000
DTSTAMP:20260423T220258
CREATED:20260109T184112Z
LAST-MODIFIED:20260109T185018Z
UID:12793-1783760400-1783769400@acadetroit.org
SUMMARY:Health Screening Fair - (Madison Heights) 07/11/2026
DESCRIPTION:
URL:https://acadetroit.org/events-calendar/health-screening-fair-madison-heights-07-11-2026/
LOCATION:ACA Chinese Community Center\, 32585 Concord Drive\, Madison Heights\, MI\, 48071-1141\, United States
CATEGORIES:Health Screening Fair
ORGANIZER;CN="Association of Chinese Americans":MAILTO:acadetroit@acaccc.org
END:VEVENT
BEGIN:VEVENT
DTSTART;TZID=UTC:20260804T090000
DTEND;TZID=UTC:20260804T110000
DTSTAMP:20260423T220258
CREATED:20260109T185704Z
LAST-MODIFIED:20260109T185704Z
UID:12807-1785834000-1785841200@acadetroit.org
SUMMARY:Health Screening Fair - (Detroit) 08/04/2026
DESCRIPTION:
URL:https://acadetroit.org/events-calendar/health-screening-fair-detroit-08-04-2026/
LOCATION:ACA Detroit Service Center\, 4750 Woodward Avenue\, #211\, Detroit\, MI\, 48201
CATEGORIES:Health Screening Fair
ORGANIZER;CN="Association of Chinese Americans":MAILTO:acadetroit@acaccc.org
END:VEVENT
BEGIN:VEVENT
DTSTART;TZID=UTC:20260912T090000
DTEND;TZID=UTC:20260912T113000
DTSTAMP:20260423T220258
CREATED:20260109T184228Z
LAST-MODIFIED:20260109T185119Z
UID:12795-1789203600-1789212600@acadetroit.org
SUMMARY:Health Screening Fair - (Madison Heights) 09/12/2026
DESCRIPTION:
URL:https://acadetroit.org/events-calendar/health-screening-fair-madison-heights-09-12-2026/
LOCATION:ACA Chinese Community Center\, 32585 Concord Drive\, Madison Heights\, MI\, 48071-1141\, United States
CATEGORIES:Health Screening Fair
ORGANIZER;CN="Association of Chinese Americans":MAILTO:acadetroit@acaccc.org
END:VEVENT
BEGIN:VEVENT
DTSTART;TZID=UTC:20261014T090000
DTEND;TZID=UTC:20261014T110000
DTSTAMP:20260423T220258
CREATED:20260109T185818Z
LAST-MODIFIED:20260109T185818Z
UID:12809-1791968400-1791975600@acadetroit.org
SUMMARY:Health Screening Fair - (Detroit) 10/14/2026
DESCRIPTION:
URL:https://acadetroit.org/events-calendar/health-screening-fair-detroit-10-14-2026/
LOCATION:ACA Detroit Service Center\, 4750 Woodward Avenue\, #211\, Detroit\, MI\, 48201
CATEGORIES:Health Screening Fair
ORGANIZER;CN="Association of Chinese Americans":MAILTO:acadetroit@acaccc.org
END:VEVENT
BEGIN:VEVENT
DTSTART;TZID=UTC:20261121T090000
DTEND;TZID=UTC:20261121T113000
DTSTAMP:20260423T220258
CREATED:20260109T184312Z
LAST-MODIFIED:20260109T185134Z
UID:12797-1795251600-1795260600@acadetroit.org
SUMMARY:Health Screening Fair - (Madison Heights) 11/21/2026
DESCRIPTION:
URL:https://acadetroit.org/events-calendar/health-screening-fair-madison-heights-11-21-2026/
LOCATION:ACA Chinese Community Center\, 32585 Concord Drive\, Madison Heights\, MI\, 48071-1141\, United States
CATEGORIES:Health Screening Fair
ORGANIZER;CN="Association of Chinese Americans":MAILTO:acadetroit@acaccc.org
END:VEVENT
BEGIN:VEVENT
DTSTART;TZID=UTC:20261202T090000
DTEND;TZID=UTC:20261202T110000
DTSTAMP:20260423T220258
CREATED:20260109T185933Z
LAST-MODIFIED:20260109T185933Z
UID:12811-1796202000-1796209200@acadetroit.org
SUMMARY:Health Screening Fair - (Detroit) 12/02/2026
DESCRIPTION:
URL:https://acadetroit.org/events-calendar/health-screening-fair-detroit-12-02-2026/
LOCATION:ACA Detroit Service Center\, 4750 Woodward Avenue\, #211\, Detroit\, MI\, 48201
CATEGORIES:Health Screening Fair
ORGANIZER;CN="Association of Chinese Americans":MAILTO:acadetroit@acaccc.org
END:VEVENT
END:VCALENDAR