BEGIN:VCALENDAR
VERSION:2.0
PRODID:-//ACA Detroit - ECPv6.15.20//NONSGML v1.0//EN
CALSCALE:GREGORIAN
METHOD:PUBLISH
X-WR-CALNAME:ACA Detroit
X-ORIGINAL-URL:https://acadetroit.org
X-WR-CALDESC:Events for ACA Detroit
REFRESH-INTERVAL;VALUE=DURATION:PT1H
X-Robots-Tag:noindex
X-PUBLISHED-TTL:PT1H
BEGIN:VTIMEZONE
TZID:UTC
BEGIN:STANDARD
TZOFFSETFROM:+0000
TZOFFSETTO:+0000
TZNAME:UTC
DTSTART:20220101T000000
END:STANDARD
END:VTIMEZONE
BEGIN:VEVENT
DTSTART;TZID=UTC:20250802T090000
DTEND;TZID=UTC:20250802T113000
DTSTAMP:20260423T162214
CREATED:20250109T165408Z
LAST-MODIFIED:20250109T165712Z
UID:11350-1754125200-1754134200@acadetroit.org
SUMMARY:Health Screening Fair - (Madison Heights) 08/02/2025
DESCRIPTION:
URL:https://acadetroit.org/events-calendar/health-screening-fair-madison-heights-08-02-2025/
LOCATION:ACA Chinese Community Center\, 32585 Concord Drive\, Madison Heights\, MI\, 48071-1141\, United States
CATEGORIES:Health Screening Fair
ORGANIZER;CN="Association of Chinese Americans":MAILTO:acadetroit@acaccc.org
END:VEVENT
BEGIN:VEVENT
DTSTART;TZID=UTC:20250708T090000
DTEND;TZID=UTC:20250708T110000
DTSTAMP:20260423T162214
CREATED:20250109T170644Z
LAST-MODIFIED:20250702T180713Z
UID:11360-1751965200-1751972400@acadetroit.org
SUMMARY:Health Screening Fair - (Detroit) 07/08/2025
DESCRIPTION:
URL:https://acadetroit.org/events-calendar/health-screening-fair-detroit-07-08-2025/
LOCATION:ACA Detroit Service Center\, 4750 Woodward Avenue\, #211\, Detroit\, MI\, 48201
CATEGORIES:Health Screening Fair
ORGANIZER;CN="Association of Chinese Americans":MAILTO:acadetroit@acaccc.org
END:VEVENT
BEGIN:VEVENT
DTSTART;TZID=UTC:20250607T090000
DTEND;TZID=UTC:20250607T113000
DTSTAMP:20260423T162214
CREATED:20250109T164953Z
LAST-MODIFIED:20250109T165733Z
UID:11347-1749286800-1749295800@acadetroit.org
SUMMARY:Health Screening Fair - (Madison Heights) 06/07/2025
DESCRIPTION:
URL:https://acadetroit.org/events-calendar/health-screening-fair-madison-heights-06-07-2025/
LOCATION:ACA Chinese Community Center\, 32585 Concord Drive\, Madison Heights\, MI\, 48071-1141\, United States
CATEGORIES:Health Screening Fair
ORGANIZER;CN="Association of Chinese Americans":MAILTO:acadetroit@acaccc.org
END:VEVENT
BEGIN:VEVENT
DTSTART;TZID=UTC:20250505T090000
DTEND;TZID=UTC:20250505T110000
DTSTAMP:20260423T162214
CREATED:20250109T170100Z
LAST-MODIFIED:20250505T193321Z
UID:11358-1746435600-1746442800@acadetroit.org
SUMMARY:Health Screening Fair - (Detroit) 05/05/2025
DESCRIPTION:
URL:https://acadetroit.org/events-calendar/health-screening-fair-detroit-05-05-2025/
LOCATION:ACA Detroit Service Center\, 4750 Woodward Avenue\, #211\, Detroit\, MI\, 48201
CATEGORIES:Health Screening Fair
ORGANIZER;CN="Association of Chinese Americans":MAILTO:acadetroit@acaccc.org
END:VEVENT
BEGIN:VEVENT
DTSTART;TZID=UTC:20250426T090000
DTEND;TZID=UTC:20250426T113000
DTSTAMP:20260423T162214
CREATED:20250109T164851Z
LAST-MODIFIED:20250424T200431Z
UID:11344-1745658000-1745667000@acadetroit.org
SUMMARY:Health Screening Fair - (Madison Heights) 04/26/2025
DESCRIPTION:
URL:https://acadetroit.org/events-calendar/health-screening-fair-madison-heights-04-26-2025/
LOCATION:ACA Chinese Community Center\, 32585 Concord Drive\, Madison Heights\, MI\, 48071-1141\, United States
CATEGORIES:Health Screening Fair
ORGANIZER;CN="Association of Chinese Americans":MAILTO:acadetroit@acaccc.org
END:VEVENT
BEGIN:VEVENT
DTSTART;TZID=UTC:20250304T090000
DTEND;TZID=UTC:20250304T110000
DTSTAMP:20260423T162214
CREATED:20250109T164120Z
LAST-MODIFIED:20250109T165133Z
UID:11336-1741078800-1741086000@acadetroit.org
SUMMARY:Health Screening Fair - (Detroit) 03/04/2025
DESCRIPTION:
URL:https://acadetroit.org/events-calendar/health-screening-fair-detroit-03-4-2025/
LOCATION:ACA Detroit Service Center\, 4750 Woodward Avenue\, #211\, Detroit\, MI\, 48201
CATEGORIES:Health Screening Fair
ORGANIZER;CN="Association of Chinese Americans":MAILTO:acadetroit@acaccc.org
END:VEVENT
BEGIN:VEVENT
DTSTART;TZID=UTC:20250215T090000
DTEND;TZID=UTC:20250215T113000
DTSTAMP:20260423T162214
CREATED:20250107T201811Z
LAST-MODIFIED:20250107T210007Z
UID:11270-1739610000-1739619000@acadetroit.org
SUMMARY:Health Screening Fair - (Madison Heights) 02/15/2025
DESCRIPTION:
URL:https://acadetroit.org/events-calendar/health-screening-fair-madison-heights-02-15-2025/
LOCATION:ACA Chinese Community Center\, 32585 Concord Drive\, Madison Heights\, MI\, 48071-1141\, United States
CATEGORIES:Health Screening Fair
ORGANIZER;CN="Association of Chinese Americans":MAILTO:acadetroit@acaccc.org
END:VEVENT
BEGIN:VEVENT
DTSTART;TZID=UTC:20250202T110000
DTEND;TZID=UTC:20250202T150000
DTSTAMP:20260423T162214
CREATED:20250107T202813Z
LAST-MODIFIED:20250107T210145Z
UID:11282-1738494000-1738508400@acadetroit.org
SUMMARY:ACA Hosts Lunar New Year Community Fair 2025 at Eastern Market
DESCRIPTION:  \nDetroit\, MI — December 19\, 2024 — The Association of Chinese Americans (ACA) is excited to announce its highly anticipated Lunar New Year Community Fair 2025\, celebrating the Year of the Snake on Sunday\, February 2\, 2025\, from 11:00 AM to 3:00 PM\, at Eastern Market Shed 5 in Detroit. \nThis family-friendly\, free event invites the community to join in a vibrant celebration of cultural diversity and shared traditions. With cultural performances\, authentic foods\, traditional crafts\, and interactive activities\, the event promises an unforgettable experience for all ages. \n“Our Lunar New Year Community Fair is about bringing people together to celebrate not only Chinese culture but also the many rich traditions observed across Asia during Lunar New Year\,” said Peggy Du\, Executive Director of ACA. “It’s a celebration of unity\, diversity\, and the spirit of sharing.” \nEvent Highlights\n\nCultural Performances: Enjoy live performances representing diverse Asian cultures.\nAuthentic Foods: Savor delicious dishes that highlight the culinary traditions of Lunar New Year.\nTraditional Crafts: Explore hands-on activities and crafts for the whole family.\nVendors and Exhibitors: Discover unique goods and services from local businesses and community organizations.\nLive DJ: Groove to festive beats while soaking in the vibrant atmosphere.\n\nWhile the event is free and open to the public\, attendees are encouraged to RSVP in advance to receive a special red envelope upon arrival. \nGet your ticket for free here
URL:https://acadetroit.org/events-calendar/aca-hosts-lunar-new-year-community-fair-2025-at-eastern-market/
LOCATION:Eastern Market Shed 5\, 2810 Russell St\, Detroit\, MI\, 48207\, United States
CATEGORIES:Events
ORGANIZER;CN="Association of Chinese Americans":MAILTO:acadetroit@acaccc.org
END:VEVENT
BEGIN:VEVENT
DTSTART;TZID=UTC:20250114T090000
DTEND;TZID=UTC:20250114T110000
DTSTAMP:20260423T162214
CREATED:20250107T201654Z
LAST-MODIFIED:20250107T210121Z
UID:11269-1736845200-1736852400@acadetroit.org
SUMMARY:Health Screening Fair - (Detroit) 01/14/2025
DESCRIPTION:
URL:https://acadetroit.org/events-calendar/health-screening-fair-detroit-01-14-2025/
LOCATION:ACA Detroit Service Center\, 4750 Woodward Avenue\, #211\, Detroit\, MI\, 48201
CATEGORIES:Health Screening Fair
ORGANIZER;CN="Association of Chinese Americans":MAILTO:acadetroit@acaccc.org
END:VEVENT
BEGIN:VEVENT
DTSTART;TZID=UTC:20250114T080000
DTEND;TZID=UTC:20250209T170000
DTSTAMP:20260423T162214
CREATED:20250122T201456Z
LAST-MODIFIED:20250122T201552Z
UID:11369-1736841600-1739120400@acadetroit.org
SUMMARY:2025 Go Club Registration
DESCRIPTION:  \nRegister Here
URL:https://acadetroit.org/events-calendar/2025-go-club-registration/
LOCATION:MI
ORGANIZER;CN="Association of Chinese Americans":MAILTO:acadetroit@acaccc.org
END:VEVENT
BEGIN:VEVENT
DTSTART;TZID=UTC:20241203T090000
DTEND;TZID=UTC:20241203T113000
DTSTAMP:20260423T162214
CREATED:20240701T153653Z
LAST-MODIFIED:20240701T153653Z
UID:10537-1733216400-1733225400@acadetroit.org
SUMMARY:Health Screening Fair - (Detroit) 12/3/2024
DESCRIPTION:
URL:https://acadetroit.org/events-calendar/health-screening-fair-detroit-12-3-2024/
LOCATION:ACA Detroit Service Center\, 4750 Woodward Avenue\, #211\, Detroit\, MI\, 48201
CATEGORIES:Health Screening Fair
ORGANIZER;CN="Association of Chinese Americans":MAILTO:acadetroit@acaccc.org
END:VEVENT
BEGIN:VEVENT
DTSTART;TZID=UTC:20241116T090000
DTEND;TZID=UTC:20241116T113000
DTSTAMP:20260423T162214
CREATED:20240430T151200Z
LAST-MODIFIED:20240531T152129Z
UID:2852-1731747600-1731756600@acadetroit.org
SUMMARY:Health Screening Fair - (Madison Heights) 11/16/2024
DESCRIPTION:
URL:https://acadetroit.org/events-calendar/health-screening-fair-11-16-2024/
LOCATION:ACA Chinese Community Center\, 32585 Concord Drive\, Madison Heights\, MI\, 48071-1141\, United States
CATEGORIES:Health Screening Fair
ORGANIZER;CN="Association of Chinese Americans":MAILTO:acadetroit@acaccc.org
END:VEVENT
BEGIN:VEVENT
DTSTART;TZID=UTC:20241103T150000
DTEND;TZID=UTC:20241103T170000
DTSTAMP:20260423T162214
CREATED:20241030T163811Z
LAST-MODIFIED:20241030T164939Z
UID:11137-1730646000-1730653200@acadetroit.org
SUMMARY:ACA 41st Annual High School and College Achievement Awards Ceremony Registration
DESCRIPTION:The award ceremony will be followed by a reception\, and all honorees are invited to attend. This event is free of charge for anyone\, so feel free to invite your family\, friends\, teachers\, or counselor to join us. Please use the link below to register you and your guests by Nov 1st at 12pm \nhttps://bit.ly/ACA41stScholarshipAwardCeremony
URL:https://acadetroit.org/events-calendar/aca-41st-annual-high-school-and-college-achievement-awards-ceremony-registration/
LOCATION:ACA Chinese Community Center\, 32585 Concord Drive\, Madison Heights\, MI\, 48071-1141\, United States
CATEGORIES:Events
ORGANIZER;CN="Association of Chinese Americans":MAILTO:acadetroit@acaccc.org
END:VEVENT
BEGIN:VEVENT
DTSTART;TZID=UTC:20241020T170000
DTEND;TZID=UTC:20241020T193000
DTSTAMP:20260423T162214
CREATED:20240614T182802Z
LAST-MODIFIED:20240614T184116Z
UID:8807-1729443600-1729452600@acadetroit.org
SUMMARY:52nd ACA Annual Gala Fundraising
DESCRIPTION:Sun Oct 20\n5:00 – 7:30 PM \n39200 5 Mile Road\nLivonia\, MI 48154 \nGeneral $150\nMember $125\nPatron $200 \nKeynote Speaker\nPoppy Hernandaz\nExecutive Director\nOffice of Global Michigan \nTogether Today for a brighter tomorrow.  \nRegister Now! \n 
URL:https://acadetroit.org/events-calendar/52nd-aca-annual-gala-fundraising/
LOCATION:52nd Annual Gala\, 39200 5 Mile Road\, Livonia\, MI\, 48154
CATEGORIES:Fundraising
ORGANIZER;CN="Association of Chinese Americans":MAILTO:acadetroit@acaccc.org
END:VEVENT
BEGIN:VEVENT
DTSTART;TZID=UTC:20241008T090000
DTEND;TZID=UTC:20241008T113000
DTSTAMP:20260423T162214
CREATED:20240701T153600Z
LAST-MODIFIED:20240701T153600Z
UID:10535-1728378000-1728387000@acadetroit.org
SUMMARY:Health Screening Fair - (Detroit) 10/8/2024
DESCRIPTION:
URL:https://acadetroit.org/events-calendar/health-screening-fair-detroit-10-8-2024/
LOCATION:ACA Detroit Service Center\, 4750 Woodward Avenue\, #211\, Detroit\, MI\, 48201
CATEGORIES:Health Screening Fair
ORGANIZER;CN="Association of Chinese Americans":MAILTO:acadetroit@acaccc.org
END:VEVENT
BEGIN:VEVENT
DTSTART;TZID=UTC:20240921T110000
DTEND;TZID=UTC:20240921T140000
DTSTAMP:20260423T162214
CREATED:20240910T141305Z
LAST-MODIFIED:20240917T145306Z
UID:10786-1726916400-1726927200@acadetroit.org
SUMMARY:2024 Healthy Gardening Fair
DESCRIPTION:Register for a booth at Healthy Gardening Fair Click Here
URL:https://acadetroit.org/events-calendar/2024-healthy-gardening-fair/
LOCATION:ACA Chinese Community Center\, 32585 Concord Drive\, Madison Heights\, MI\, 48071-1141\, United States
CATEGORIES:Events
END:VEVENT
BEGIN:VEVENT
DTSTART;TZID=UTC:20240907T090000
DTEND;TZID=UTC:20240907T113000
DTSTAMP:20260423T162214
CREATED:20240430T151109Z
LAST-MODIFIED:20240531T152213Z
UID:2850-1725699600-1725708600@acadetroit.org
SUMMARY:Health Screening Fair - (Madison Heights) 9/7/2024
DESCRIPTION:
URL:https://acadetroit.org/events-calendar/health-screening-fair-9-7-2024/
LOCATION:ACA Chinese Community Center\, 32585 Concord Drive\, Madison Heights\, MI\, 48071-1141\, United States
CATEGORIES:Health Screening Fair
ORGANIZER;CN="Association of Chinese Americans":MAILTO:acadetroit@acaccc.org
END:VEVENT
BEGIN:VEVENT
DTSTART;TZID=UTC:20240806T090000
DTEND;TZID=UTC:20240806T113000
DTSTAMP:20260423T162214
CREATED:20240701T153501Z
LAST-MODIFIED:20240701T153501Z
UID:10533-1722934800-1722943800@acadetroit.org
SUMMARY:Health Screening Fair - (Detroit) 8/6/2024
DESCRIPTION:
URL:https://acadetroit.org/events-calendar/health-screening-fair-detroit-8-6-2024/
LOCATION:ACA Detroit Service Center\, 4750 Woodward Avenue\, #211\, Detroit\, MI\, 48201
CATEGORIES:Health Screening Fair
ORGANIZER;CN="Association of Chinese Americans":MAILTO:acadetroit@acaccc.org
END:VEVENT
BEGIN:VEVENT
DTSTART;TZID=UTC:20240713T090000
DTEND;TZID=UTC:20240713T113000
DTSTAMP:20260423T162214
CREATED:20240430T151022Z
LAST-MODIFIED:20240531T152247Z
UID:2848-1720861200-1720870200@acadetroit.org
SUMMARY:Health Screening Fair - (Madison Heights) 7/13/2024
DESCRIPTION:
URL:https://acadetroit.org/events-calendar/health-screening-fair-7-13-2024/
LOCATION:ACA Chinese Community Center\, 32585 Concord Drive\, Madison Heights\, MI\, 48071-1141\, United States
CATEGORIES:Health Screening Fair
ORGANIZER;CN="Association of Chinese Americans":MAILTO:acadetroit@acaccc.org
END:VEVENT
BEGIN:VEVENT
DTSTART;TZID=UTC:20240708T000000
DTEND;TZID=UTC:20240802T235900
DTSTAMP:20260423T162214
CREATED:20240531T143331Z
LAST-MODIFIED:20240607T144624Z
UID:7532-1720396800-1722643140@acadetroit.org
SUMMARY:ACA 2024 Youth Cultural Summer Camp - Madison Heights
DESCRIPTION:
URL:https://acadetroit.org/events-calendar/aca-2024-youth-cultural-summer-camp-madison-heights/
LOCATION:ACA Chinese Community Center\, 32585 Concord Drive\, Madison Heights\, MI\, 48071-1141\, United States
END:VEVENT
BEGIN:VEVENT
DTSTART;TZID=UTC:20240708T000000
DTEND;TZID=UTC:20240802T235900
DTSTAMP:20260423T162214
CREATED:20240531T143331Z
LAST-MODIFIED:20240607T144657Z
UID:7533-1720396800-1722643140@acadetroit.org
SUMMARY:ACA 2024 Youth Cultural Summer Camp - Plymouth
DESCRIPTION:
URL:https://acadetroit.org/events-calendar/aca-2024-youth-cultural-summer-camp-plymouth/
LOCATION:Risen Christ Lutheran Church\, 46250 Ann Arbor Rd\, Plymouth\, MI\, 48170
END:VEVENT
BEGIN:VEVENT
DTSTART;TZID=UTC:20240604T090000
DTEND;TZID=UTC:20240604T110000
DTSTAMP:20260423T162214
CREATED:20240430T151504Z
LAST-MODIFIED:20240531T152616Z
UID:2854-1717491600-1717498800@acadetroit.org
SUMMARY:Health Screening Fair - (Detroit) 6/4/2024
DESCRIPTION:
URL:https://acadetroit.org/events-calendar/health-screening-fair-6-4-2024/
LOCATION:ACA Detroit Service Center\, 4750 Woodward Avenue\, #211\, Detroit\, MI\, 48201
CATEGORIES:Health Screening Fair
ORGANIZER;CN="Association of Chinese Americans":MAILTO:acadetroit@acaccc.org
END:VEVENT
BEGIN:VEVENT
DTSTART;TZID=UTC:20240509T100000
DTEND;TZID=UTC:20240509T140000
DTSTAMP:20260423T162214
CREATED:20240501T173706Z
LAST-MODIFIED:20240506T134501Z
UID:3099-1715248800-1715263200@acadetroit.org
SUMMARY:APA Day at the State Capitol
DESCRIPTION:Meet our State Legislators Show Your Presence Make Your Voice Heard \n\nAttend the Senate and House Sessions to be Recognized in\nMeet State Legislators from Your District to Share Your\nCelebrate APA Heritage Month with Presentations and Entertainment\nNetworking Lunch at the State Capital with Legislators\nBus Transportation available from SE-Michigan\, Battle Creek\, and Grand Rapids
URL:https://acadetroit.org/events-calendar/apa-day-at-the-state-capitol/
LOCATION:Michigan State Capitol\, 100 N Capitol Ave\, Lansing\, MI\, 48933
CATEGORIES:Field Trip
END:VEVENT
BEGIN:VEVENT
DTSTART;TZID=UTC:20240504T090000
DTEND;TZID=UTC:20240504T113000
DTSTAMP:20260423T162214
CREATED:20240417T201916Z
LAST-MODIFIED:20240531T152718Z
UID:1668-1714813200-1714822200@acadetroit.org
SUMMARY:Health Screening Fair - (Detroit) 5/4/2024
DESCRIPTION:
URL:https://acadetroit.org/events-calendar/health-screening-fair-5-4-2024/
LOCATION:ACA Chinese Community Center\, 32585 Concord Drive\, Madison Heights\, MI\, 48071-1141\, United States
CATEGORIES:Health Screening Fair
ORGANIZER;CN="Association of Chinese Americans":MAILTO:acadetroit@acaccc.org
END:VEVENT
BEGIN:VEVENT
DTSTART;TZID=UTC:20240427T000000
DTEND;TZID=UTC:20240427T235900
DTSTAMP:20260423T162214
CREATED:20240531T143323Z
LAST-MODIFIED:20240531T143323Z
UID:7530-1714176000-1714262340@acadetroit.org
SUMMARY:Michigan Go Championship
DESCRIPTION:
URL:https://acadetroit.org/events-calendar/michigan-go-championship/
LOCATION:ACA Chinese Community Center\, 32585 Concord Drive\, Madison Heights\, MI\, 48071-1141\, United States
END:VEVENT
BEGIN:VEVENT
DTSTART;TZID=UTC:20240404T000000
DTEND;TZID=UTC:20240404T235900
DTSTAMP:20260423T162214
CREATED:20240531T143323Z
LAST-MODIFIED:20240531T143323Z
UID:7531-1712188800-1712275140@acadetroit.org
SUMMARY:2024 PATH Management of Chronic Diseases
DESCRIPTION:
URL:https://acadetroit.org/events-calendar/2024-path-management-of-chronic-diseases/
LOCATION:Zoom\, United States
END:VEVENT
BEGIN:VEVENT
DTSTART;TZID=UTC:20230710T000000
DTEND;TZID=UTC:20230804T235900
DTSTAMP:20260423T162214
CREATED:20240531T143322Z
LAST-MODIFIED:20240531T143322Z
UID:7527-1688947200-1691193540@acadetroit.org
SUMMARY:2023 Youth Summer Camp-Madison Heights
DESCRIPTION:
URL:https://acadetroit.org/events-calendar/2023-youth-summer-camp-madison-heights/
LOCATION:ACA Chinese Community Center\, 32585 Concord Drive\, Madison Heights\, MI\, 48071-1141\, United States
END:VEVENT
BEGIN:VEVENT
DTSTART;TZID=UTC:20230710T000000
DTEND;TZID=UTC:20230804T235900
DTSTAMP:20260423T162214
CREATED:20240531T143322Z
LAST-MODIFIED:20240531T143322Z
UID:7528-1688947200-1691193540@acadetroit.org
SUMMARY:2023 Youth Cultural Summer Camp - Canton
DESCRIPTION:
URL:https://acadetroit.org/events-calendar/2023-youth-cultural-summer-camp-canton/
LOCATION:Risen Christ Lutheran Church\, 46250 Ann Arbor Rd\, Plymouth\, MI\, 48170
END:VEVENT
BEGIN:VEVENT
DTSTART;TZID=UTC:20230708T100000
DTEND;TZID=UTC:20230708T110000
DTSTAMP:20260423T162214
CREATED:20240531T143323Z
LAST-MODIFIED:20240531T143323Z
UID:7529-1688810400-1688814000@acadetroit.org
SUMMARY:2023 ACA x Comcast Digital Inclusion Project Graduation Ceremony
DESCRIPTION:Join us to celebrate the achievements of the ACA x Comcast Digital Inclusion Project graduates and inspire the next generation of digital leaders.  Come to learn the digital projects of ACA’s Teen Volunteer Council and see how you can contribute to the community with you skills!  Refreshment will be provided! \nRSVP at https://bit.ly/ACAxComcast_Graduation
URL:https://acadetroit.org/events-calendar/2023-aca-x-comcast-digital-inclusion-project-graduation-ceremony/
LOCATION:ACA Chinese Community Center\, 32585 Concord Drive\, Madison Heights\, MI\, 48071-1141\, United States
END:VEVENT
BEGIN:VEVENT
DTSTART;TZID=UTC:20230625T080000
DTEND;TZID=UTC:20230625T170000
DTSTAMP:20260423T162214
CREATED:20240531T143320Z
LAST-MODIFIED:20240531T143320Z
UID:7526-1687680000-1687712400@acadetroit.org
SUMMARY:2023 Spring Golf Outing
DESCRIPTION:
URL:https://acadetroit.org/events-calendar/2023-spring-golf-outing/
LOCATION:Mystic Creek Golf Course\, One Champions Circle\, Milford\, MI\, 48380\, United States
END:VEVENT
END:VCALENDAR