BEGIN:VCALENDAR
VERSION:2.0
PRODID:-//ACA Detroit - ECPv6.15.20//NONSGML v1.0//EN
CALSCALE:GREGORIAN
METHOD:PUBLISH
X-WR-CALNAME:ACA Detroit
X-ORIGINAL-URL:https://acadetroit.org
X-WR-CALDESC:Events for ACA Detroit
REFRESH-INTERVAL;VALUE=DURATION:PT1H
X-Robots-Tag:noindex
X-PUBLISHED-TTL:PT1H
BEGIN:VTIMEZONE
TZID:UTC
BEGIN:STANDARD
TZOFFSETFROM:+0000
TZOFFSETTO:+0000
TZNAME:UTC
DTSTART:20180101T000000
END:STANDARD
END:VTIMEZONE
BEGIN:VEVENT
DTSTART;TZID=UTC:20200111T000000
DTEND;TZID=UTC:20200111T000000
DTSTAMP:20260425T154306
CREATED:20240608T151822Z
LAST-MODIFIED:20240608T151822Z
UID:8009-1578700800-1578700800@acadetroit.org
SUMMARY:Keyboard Accompaniment Music class
DESCRIPTION:Keyboard Accompaniment Music class \n键盘伴奏音乐班 \n指导老师 Teacher：江维德 Wei-Te Chiang \nTime 时间：From 01/04/2020 \n(Total 8 classes) \nEvery Saturday 9 AM- 11 AM \nLocation 地点： \nChinese Community Center \n32585 Concord Drive\, Madison Heights\, MI 48071 \nFee 费用: Member $ 80 \nGeneral $ 120 \nLimited Seats：12 persons \nFor more information\, please call 248-585-9343
URL:https://acadetroit.org/events-calendar/keyboard-accompaniment-music-class-2/
LOCATION:Chinese Community Center\, 32585 Concord Drive\, Madison Heights\, 48071\, United States
END:VEVENT
BEGIN:VEVENT
DTSTART;TZID=UTC:20200110T120000
DTEND;TZID=UTC:20200110T140000
DTSTAMP:20260425T154306
CREATED:20240608T151823Z
LAST-MODIFIED:20240608T151823Z
UID:8010-1578657600-1578664800@acadetroit.org
SUMMARY:Medical ESL Class (Canton)
DESCRIPTION:Medical ESL Class(Canton) \nThe classes will support proficiency in the English language when you visit a doctor at a hospital or a clinic \nTime: 10月4日2019-5月2020 \n October 4\, 2019- May\, 2020 \nEvery Friday 12:00 pm- 14:00 pm \n Free Classes \n Location：*Room Art II* \n(46000 Summit Pkwy\, Canton\, MI 48188) \nCall for more information：248-585-9343 \n\n实用就医英语课(Canton) \n你是否一直想要提高自己的英语水平？ \n此课程将帮助您有效地提高就医所需的英语听说读写能力 \n时间：10月4日2019-5月2020 \n每周五 12:00 pm- 14:00 pm \n免费课程 \n地点 ：*Room Art II* \n(46000 Summit Pkwy\, Canton\, MI 48188) \n详情请致电：248-585-9343
URL:https://acadetroit.org/events-calendar/medical-esl-class-canton-5/
LOCATION:Room Art 2\, 46000 Summit Pkwy\, Canton\, MI 48188\, 46000 Summit Pkwy\, Canton\, MI 48188\,\, United States
END:VEVENT
BEGIN:VEVENT
DTSTART;TZID=UTC:20200109T104000
DTEND;TZID=UTC:20200109T114000
DTSTAMP:20260425T154306
CREATED:20240608T153237Z
LAST-MODIFIED:20240608T153237Z
UID:8328-1578566400-1578570000@acadetroit.org
SUMMARY:EnhanceFitness Class
DESCRIPTION:老年朋友们一起来活动筋骨健身保健！美华底特律服务中心的健身保健班这周正式开始了！ \nHey our seniors friends\, come and join ACA’s EnhanceFitness classes to stay healthy and energetic! \n地点/Address：4750 Woodward Ave. Ste 211\, Detroit\, MI 48201-1300 \n时间/Time：每周一/周四早上10:40-11:40- Every Mon/Thur from 10:40 AM-11:40 AM
URL:https://acadetroit.org/events-calendar/enhancefitness-class-30/
LOCATION:Detroit Service Center\, 4750 Woodward Ave.\, Ste. 211 \, Detroit\, 48201\, MI\, United States
END:VEVENT
BEGIN:VEVENT
DTSTART;TZID=UTC:20200107T123000
DTEND;TZID=UTC:20200630T140000
DTSTAMP:20260425T154306
CREATED:20240531T143509Z
LAST-MODIFIED:20240531T143509Z
UID:7547-1578400200-1593525600@acadetroit.org
SUMMARY:Citizenship Class
DESCRIPTION:Citizenship Class\n公民入籍课程\n\nPart I\n100 Questions: Tue.\, 1/7/20 – 4/28/20 12:30 pm – 2 pm\n一百題和基本歷史: 星期二\, 1月7日 – 4月28日 下午12:30到2點\n\n費用 $20\n(includes 100 Questions book & CD包括一百題書和光盤)\n\n\nPart II\nN-400 Form & Interview Practice: Tue.\, 5/5/20 – 6/30/20 12:30 pm – 2 pm\n\nN-400表和面試練習:星期二\, 5月5日 – 6月30日 下午12:30到2點\n\nFee費用 $25\n(includes English & Chinese N-400 Form包括N-400表英文和中文)
URL:https://acadetroit.org/events-calendar/citizenship-class-19/
LOCATION:Chinese Community Center\, 32585 Concord Drive\, Madison Heights\, 48071\, United States
END:VEVENT
BEGIN:VEVENT
DTSTART;TZID=UTC:20200107T100000
DTEND;TZID=UTC:20200107T120000
DTSTAMP:20260425T154306
CREATED:20240608T151824Z
LAST-MODIFIED:20240608T151824Z
UID:8011-1578391200-1578398400@acadetroit.org
SUMMARY:Medical ESL Class
DESCRIPTION:Want to improve your English skills?\nThe classes will support proficiency in the English language when you visit a doctor at a hospital or a clinic. \n你是否一直想要提高自己的英语水平？ \n此课程将帮助您有效地提高就医所需地英语听说读写能力 \n时间 Time：9月10日2019 – 5月2020 (September 10\, 2019 – May\, 2020) \n地点 Location：Chinese Community Center
URL:https://acadetroit.org/events-calendar/medical-esl-class-8/
LOCATION:Chinese Community Center\, 32585 Concord Drive\, Madison Heights\, 48071\, United States
END:VEVENT
BEGIN:VEVENT
DTSTART;TZID=UTC:20200106T104000
DTEND;TZID=UTC:20200106T114000
DTSTAMP:20260425T154306
CREATED:20240608T153237Z
LAST-MODIFIED:20240608T153237Z
UID:8329-1578307200-1578310800@acadetroit.org
SUMMARY:EnhanceFitness Class
DESCRIPTION:老年朋友们一起来活动筋骨健身保健！美华底特律服务中心的健身保健班这周正式开始了！ \nHey our seniors friends\, come and join ACA’s EnhanceFitness classes to stay healthy and energetic! \n地点/Address：4750 Woodward Ave. Ste 211\, Detroit\, MI 48201-1300 \n时间/Time：每周一/周四早上10:40-11:40- Every Mon/Thur from 10:40 AM-11:40 AM
URL:https://acadetroit.org/events-calendar/enhancefitness-class-31/
LOCATION:Detroit Service Center\, 4750 Woodward Ave.\, Ste. 211 \, Detroit\, 48201\, MI\, United States
END:VEVENT
BEGIN:VEVENT
DTSTART;TZID=UTC:20200105T130000
DTEND;TZID=UTC:20200105T160000
DTSTAMP:20260425T154306
CREATED:20240608T151824Z
LAST-MODIFIED:20240608T151824Z
UID:8012-1578229200-1578240000@acadetroit.org
SUMMARY:Digital Inclusion Program
DESCRIPTION:This will be the 8th year in which the Association of Chinese Americans (ACA) is partnering with Comcast to offer the Digital Inclusion program to children ages 13-17. The program’s goal is to have students become proficient in digital literacy\, financial literacy and have a firm foundation of essential life skills. \nThis year\, the program will have two on-site locations at the Chinese Community Center (CCC) in Madison Heights and the Summit on the Park in Canton with the majority of the classes being taught online through Zoom. Classes will be taught on Sundays from 1 pm – 4 pm (time subject to change) and the tentative start date is Sunday\, December 1st.  \nThe program will run throughout the school year and will end in May 2020 with the tentative graduation day on Sunday\, June 7th\, 2020. The program will require a minimum of 50 hours of community service along with access to a computer and Internet at home.   \nAs an incentive\, participants who are able to meet the requirements will receive a personal computer. \nTo register\, please fill out the form here and for more information or questions\, please contact David Liou at dliou@acaccc.org.  \n\n今年美华协会与Comcast 合作的数字包容项目即将开启 \n该项目专为13-17岁学生设计，目标是通过一系列课程培养学生的数字素养，金融素养及生活技能基础。今年的课程将在Madison Heights 和Canton 同时进行，达到要求顺利毕业的学生可获得证书及个人电脑！ \n名额有限，欲报从速！！！ \n报名链接： https://forms.gle/bv8qZd7LFbQRJCpHA \n详情请见海报或致电248-585-9343/313-831-3790
URL:https://acadetroit.org/events-calendar/digital-inclusion-program-2/
LOCATION:Chinese Community Center\, 32585 Concord Drive\, Madison Heights\, 48071\, United States
END:VEVENT
BEGIN:VEVENT
DTSTART;TZID=UTC:20200104T000000
DTEND;TZID=UTC:20200104T000000
DTSTAMP:20260425T154306
CREATED:20240608T151825Z
LAST-MODIFIED:20240608T151825Z
UID:8013-1578096000-1578096000@acadetroit.org
SUMMARY:Keyboard Accompaniment Music class
DESCRIPTION:Keyboard Accompaniment Music class \n键盘伴奏音乐班 \n指导老师 Teacher：江维德 Wei-Te Chiang \nTime 时间：From 01/04/2020 \n(Total 8 classes) \nEvery Saturday 9 AM- 11 AM \nLocation 地点： \nChinese Community Center \n32585 Concord Drive\, Madison Heights\, MI 48071 \nFee 费用: Member $ 80 \nGeneral $ 120 \nLimited Seats：12 persons \nFor more information\, please call 248-585-9343
URL:https://acadetroit.org/events-calendar/keyboard-accompaniment-music-class-3/
LOCATION:Chinese Community Center\, 32585 Concord Drive\, Madison Heights\, 48071\, United States
END:VEVENT
BEGIN:VEVENT
DTSTART;TZID=UTC:20200103T120000
DTEND;TZID=UTC:20200103T140000
DTSTAMP:20260425T154306
CREATED:20240608T151826Z
LAST-MODIFIED:20240608T151826Z
UID:8014-1578052800-1578060000@acadetroit.org
SUMMARY:Medical ESL Class (Canton)
DESCRIPTION:Medical ESL Class(Canton) \nThe classes will support proficiency in the English language when you visit a doctor at a hospital or a clinic \nTime: 10月4日2019-5月2020 \n October 4\, 2019- May\, 2020 \nEvery Friday 12:00 pm- 14:00 pm \n Free Classes \n Location：*Room Art II* \n(46000 Summit Pkwy\, Canton\, MI 48188) \nCall for more information：248-585-9343 \n\n实用就医英语课(Canton) \n你是否一直想要提高自己的英语水平？ \n此课程将帮助您有效地提高就医所需的英语听说读写能力 \n时间：10月4日2019-5月2020 \n每周五 12:00 pm- 14:00 pm \n免费课程 \n地点 ：*Room Art II* \n(46000 Summit Pkwy\, Canton\, MI 48188) \n详情请致电：248-585-9343
URL:https://acadetroit.org/events-calendar/medical-esl-class-canton-6/
LOCATION:Room Art 2\, 46000 Summit Pkwy\, Canton\, MI 48188\, 46000 Summit Pkwy\, Canton\, MI 48188\,\, United States
END:VEVENT
BEGIN:VEVENT
DTSTART;TZID=UTC:20200102T104000
DTEND;TZID=UTC:20200102T114000
DTSTAMP:20260425T154306
CREATED:20240608T153251Z
LAST-MODIFIED:20240608T153251Z
UID:8330-1577961600-1577965200@acadetroit.org
SUMMARY:EnhanceFitness Class
DESCRIPTION:老年朋友们一起来活动筋骨健身保健！美华底特律服务中心的健身保健班这周正式开始了！ \nHey our seniors friends\, come and join ACA’s EnhanceFitness classes to stay healthy and energetic! \n地点/Address：4750 Woodward Ave. Ste 211\, Detroit\, MI 48201-1300 \n时间/Time：每周一/周四早上10:40-11:40- Every Mon/Thur from 10:40 AM-11:40 AM
URL:https://acadetroit.org/events-calendar/enhancefitness-class-32/
LOCATION:Detroit Service Center\, 4750 Woodward Ave.\, Ste. 211 \, Detroit\, 48201\, MI\, United States
END:VEVENT
BEGIN:VEVENT
DTSTART;TZID=UTC:20191231T100000
DTEND;TZID=UTC:20191231T120000
DTSTAMP:20260425T154306
CREATED:20240608T151826Z
LAST-MODIFIED:20240608T151826Z
UID:8015-1577786400-1577793600@acadetroit.org
SUMMARY:Medical ESL Class
DESCRIPTION:Want to improve your English skills?\nThe classes will support proficiency in the English language when you visit a doctor at a hospital or a clinic. \n你是否一直想要提高自己的英语水平？ \n此课程将帮助您有效地提高就医所需地英语听说读写能力 \n时间 Time：9月10日2019 – 5月2020 (September 10\, 2019 – May\, 2020) \n地点 Location：Chinese Community Center
URL:https://acadetroit.org/events-calendar/medical-esl-class-9/
LOCATION:Chinese Community Center\, 32585 Concord Drive\, Madison Heights\, 48071\, United States
END:VEVENT
BEGIN:VEVENT
DTSTART;TZID=UTC:20191230T104000
DTEND;TZID=UTC:20191230T114000
DTSTAMP:20260425T154306
CREATED:20240608T153252Z
LAST-MODIFIED:20240608T153252Z
UID:8331-1577702400-1577706000@acadetroit.org
SUMMARY:EnhanceFitness Class
DESCRIPTION:老年朋友们一起来活动筋骨健身保健！美华底特律服务中心的健身保健班这周正式开始了！ \nHey our seniors friends\, come and join ACA’s EnhanceFitness classes to stay healthy and energetic! \n地点/Address：4750 Woodward Ave. Ste 211\, Detroit\, MI 48201-1300 \n时间/Time：每周一/周四早上10:40-11:40- Every Mon/Thur from 10:40 AM-11:40 AM
URL:https://acadetroit.org/events-calendar/enhancefitness-class-33/
LOCATION:Detroit Service Center\, 4750 Woodward Ave.\, Ste. 211 \, Detroit\, 48201\, MI\, United States
END:VEVENT
BEGIN:VEVENT
DTSTART;TZID=UTC:20191229T130000
DTEND;TZID=UTC:20191229T160000
DTSTAMP:20260425T154306
CREATED:20240608T151827Z
LAST-MODIFIED:20240608T151827Z
UID:8016-1577624400-1577635200@acadetroit.org
SUMMARY:Digital Inclusion Program
DESCRIPTION:This will be the 8th year in which the Association of Chinese Americans (ACA) is partnering with Comcast to offer the Digital Inclusion program to children ages 13-17. The program’s goal is to have students become proficient in digital literacy\, financial literacy and have a firm foundation of essential life skills. \nThis year\, the program will have two on-site locations at the Chinese Community Center (CCC) in Madison Heights and the Summit on the Park in Canton with the majority of the classes being taught online through Zoom. Classes will be taught on Sundays from 1 pm – 4 pm (time subject to change) and the tentative start date is Sunday\, December 1st.  \nThe program will run throughout the school year and will end in May 2020 with the tentative graduation day on Sunday\, June 7th\, 2020. The program will require a minimum of 50 hours of community service along with access to a computer and Internet at home.   \nAs an incentive\, participants who are able to meet the requirements will receive a personal computer. \nTo register\, please fill out the form here and for more information or questions\, please contact David Liou at dliou@acaccc.org.  \n\n今年美华协会与Comcast 合作的数字包容项目即将开启 \n该项目专为13-17岁学生设计，目标是通过一系列课程培养学生的数字素养，金融素养及生活技能基础。今年的课程将在Madison Heights 和Canton 同时进行，达到要求顺利毕业的学生可获得证书及个人电脑！ \n名额有限，欲报从速！！！ \n报名链接： https://forms.gle/bv8qZd7LFbQRJCpHA \n详情请见海报或致电248-585-9343/313-831-3790
URL:https://acadetroit.org/events-calendar/digital-inclusion-program-3/
LOCATION:Chinese Community Center\, 32585 Concord Drive\, Madison Heights\, 48071\, United States
END:VEVENT
BEGIN:VEVENT
DTSTART;TZID=UTC:20191227T120000
DTEND;TZID=UTC:20191227T140000
DTSTAMP:20260425T154306
CREATED:20240608T151827Z
LAST-MODIFIED:20240608T151827Z
UID:8017-1577448000-1577455200@acadetroit.org
SUMMARY:Medical ESL Class (Canton)
DESCRIPTION:Medical ESL Class(Canton) \nThe classes will support proficiency in the English language when you visit a doctor at a hospital or a clinic \nTime: 10月4日2019-5月2020 \n October 4\, 2019- May\, 2020 \nEvery Friday 12:00 pm- 14:00 pm \n Free Classes \n Location：*Room Art II* \n(46000 Summit Pkwy\, Canton\, MI 48188) \nCall for more information：248-585-9343 \n\n实用就医英语课(Canton) \n你是否一直想要提高自己的英语水平？ \n此课程将帮助您有效地提高就医所需的英语听说读写能力 \n时间：10月4日2019-5月2020 \n每周五 12:00 pm- 14:00 pm \n免费课程 \n地点 ：*Room Art II* \n(46000 Summit Pkwy\, Canton\, MI 48188) \n详情请致电：248-585-9343
URL:https://acadetroit.org/events-calendar/medical-esl-class-canton-7/
LOCATION:Room Art 2\, 46000 Summit Pkwy\, Canton\, MI 48188\, 46000 Summit Pkwy\, Canton\, MI 48188\,\, United States
END:VEVENT
BEGIN:VEVENT
DTSTART;TZID=UTC:20191226T104000
DTEND;TZID=UTC:20191226T114000
DTSTAMP:20260425T154306
CREATED:20240608T153253Z
LAST-MODIFIED:20240608T153253Z
UID:8332-1577356800-1577360400@acadetroit.org
SUMMARY:EnhanceFitness Class
DESCRIPTION:老年朋友们一起来活动筋骨健身保健！美华底特律服务中心的健身保健班这周正式开始了！ \nHey our seniors friends\, come and join ACA’s EnhanceFitness classes to stay healthy and energetic! \n地点/Address：4750 Woodward Ave. Ste 211\, Detroit\, MI 48201-1300 \n时间/Time：每周一/周四早上10:40-11:40- Every Mon/Thur from 10:40 AM-11:40 AM
URL:https://acadetroit.org/events-calendar/enhancefitness-class-34/
LOCATION:Detroit Service Center\, 4750 Woodward Ave.\, Ste. 211 \, Detroit\, 48201\, MI\, United States
END:VEVENT
BEGIN:VEVENT
DTSTART;TZID=UTC:20191224T100000
DTEND;TZID=UTC:20191224T120000
DTSTAMP:20260425T154306
CREATED:20240608T151827Z
LAST-MODIFIED:20240608T151827Z
UID:8018-1577181600-1577188800@acadetroit.org
SUMMARY:Medical ESL Class
DESCRIPTION:Want to improve your English skills?\nThe classes will support proficiency in the English language when you visit a doctor at a hospital or a clinic. \n你是否一直想要提高自己的英语水平？ \n此课程将帮助您有效地提高就医所需地英语听说读写能力 \n时间 Time：9月10日2019 – 5月2020 (September 10\, 2019 – May\, 2020) \n地点 Location：Chinese Community Center
URL:https://acadetroit.org/events-calendar/medical-esl-class-10/
LOCATION:Chinese Community Center\, 32585 Concord Drive\, Madison Heights\, 48071\, United States
END:VEVENT
BEGIN:VEVENT
DTSTART;TZID=UTC:20191223T104000
DTEND;TZID=UTC:20191223T114000
DTSTAMP:20260425T154306
CREATED:20240608T153254Z
LAST-MODIFIED:20240608T153254Z
UID:8333-1577097600-1577101200@acadetroit.org
SUMMARY:EnhanceFitness Class
DESCRIPTION:老年朋友们一起来活动筋骨健身保健！美华底特律服务中心的健身保健班这周正式开始了！ \nHey our seniors friends\, come and join ACA’s EnhanceFitness classes to stay healthy and energetic! \n地点/Address：4750 Woodward Ave. Ste 211\, Detroit\, MI 48201-1300 \n时间/Time：每周一/周四早上10:40-11:40- Every Mon/Thur from 10:40 AM-11:40 AM
URL:https://acadetroit.org/events-calendar/enhancefitness-class-35/
LOCATION:Detroit Service Center\, 4750 Woodward Ave.\, Ste. 211 \, Detroit\, 48201\, MI\, United States
END:VEVENT
BEGIN:VEVENT
DTSTART;TZID=UTC:20191222T130000
DTEND;TZID=UTC:20191222T160000
DTSTAMP:20260425T154306
CREATED:20240608T151830Z
LAST-MODIFIED:20240608T151830Z
UID:8019-1577019600-1577030400@acadetroit.org
SUMMARY:Digital Inclusion Program
DESCRIPTION:This will be the 8th year in which the Association of Chinese Americans (ACA) is partnering with Comcast to offer the Digital Inclusion program to children ages 13-17. The program’s goal is to have students become proficient in digital literacy\, financial literacy and have a firm foundation of essential life skills. \nThis year\, the program will have two on-site locations at the Chinese Community Center (CCC) in Madison Heights and the Summit on the Park in Canton with the majority of the classes being taught online through Zoom. Classes will be taught on Sundays from 1 pm – 4 pm (time subject to change) and the tentative start date is Sunday\, December 1st.  \nThe program will run throughout the school year and will end in May 2020 with the tentative graduation day on Sunday\, June 7th\, 2020. The program will require a minimum of 50 hours of community service along with access to a computer and Internet at home.   \nAs an incentive\, participants who are able to meet the requirements will receive a personal computer. \nTo register\, please fill out the form here and for more information or questions\, please contact David Liou at dliou@acaccc.org.  \n\n今年美华协会与Comcast 合作的数字包容项目即将开启 \n该项目专为13-17岁学生设计，目标是通过一系列课程培养学生的数字素养，金融素养及生活技能基础。今年的课程将在Madison Heights 和Canton 同时进行，达到要求顺利毕业的学生可获得证书及个人电脑！ \n名额有限，欲报从速！！！ \n报名链接： https://forms.gle/bv8qZd7LFbQRJCpHA \n详情请见海报或致电248-585-9343/313-831-3790
URL:https://acadetroit.org/events-calendar/digital-inclusion-program-4/
LOCATION:Chinese Community Center\, 32585 Concord Drive\, Madison Heights\, 48071\, United States
END:VEVENT
BEGIN:VEVENT
DTSTART;TZID=UTC:20191220T120000
DTEND;TZID=UTC:20191220T140000
DTSTAMP:20260425T154306
CREATED:20240608T151831Z
LAST-MODIFIED:20240608T151831Z
UID:8020-1576843200-1576850400@acadetroit.org
SUMMARY:Medical ESL Class (Canton)
DESCRIPTION:Medical ESL Class(Canton) \nThe classes will support proficiency in the English language when you visit a doctor at a hospital or a clinic \nTime: 10月4日2019-5月2020 \n October 4\, 2019- May\, 2020 \nEvery Friday 12:00 pm- 14:00 pm \n Free Classes \n Location：*Room Art II* \n(46000 Summit Pkwy\, Canton\, MI 48188) \nCall for more information：248-585-9343 \n\n实用就医英语课(Canton) \n你是否一直想要提高自己的英语水平？ \n此课程将帮助您有效地提高就医所需的英语听说读写能力 \n时间：10月4日2019-5月2020 \n每周五 12:00 pm- 14:00 pm \n免费课程 \n地点 ：*Room Art II* \n(46000 Summit Pkwy\, Canton\, MI 48188) \n详情请致电：248-585-9343
URL:https://acadetroit.org/events-calendar/medical-esl-class-canton-8/
LOCATION:Room Art 2\, 46000 Summit Pkwy\, Canton\, MI 48188\, 46000 Summit Pkwy\, Canton\, MI 48188\,\, United States
END:VEVENT
BEGIN:VEVENT
DTSTART;TZID=UTC:20191219T104000
DTEND;TZID=UTC:20191219T114000
DTSTAMP:20260425T154306
CREATED:20240608T153255Z
LAST-MODIFIED:20240608T153255Z
UID:8334-1576752000-1576755600@acadetroit.org
SUMMARY:EnhanceFitness Class
DESCRIPTION:老年朋友们一起来活动筋骨健身保健！美华底特律服务中心的健身保健班这周正式开始了！ \nHey our seniors friends\, come and join ACA’s EnhanceFitness classes to stay healthy and energetic! \n地点/Address：4750 Woodward Ave. Ste 211\, Detroit\, MI 48201-1300 \n时间/Time：每周一/周四早上10:40-11:40- Every Mon/Thur from 10:40 AM-11:40 AM
URL:https://acadetroit.org/events-calendar/enhancefitness-class-36/
LOCATION:Detroit Service Center\, 4750 Woodward Ave.\, Ste. 211 \, Detroit\, 48201\, MI\, United States
END:VEVENT
BEGIN:VEVENT
DTSTART;TZID=UTC:20191218T100000
DTEND;TZID=UTC:20191218T120000
DTSTAMP:20260425T154306
CREATED:20240608T151831Z
LAST-MODIFIED:20240608T151831Z
UID:8021-1576663200-1576670400@acadetroit.org
SUMMARY:Christmas and New Year Special Event
DESCRIPTION:Christmas and New Year Special Event \n圣诞新年庆祝活动 \nPotluck (Share your Dishes) \nGift & Blessing Exchanges \nSharing & More \nTime: December 18    10 AM – 12:00 PM \nLocation: Canton Summit Center  Room Walnut \n46000 Summit Pkwy\, Canton\, MI 48188
URL:https://acadetroit.org/events-calendar/christmas-and-new-year-special-event/
LOCATION:46000 Summit Pkwy\, Canton\, MI 48188\, 46000 Summit Pkwy\, Canton\, MI 48188\,\, United States
END:VEVENT
BEGIN:VEVENT
DTSTART;TZID=UTC:20191217T100000
DTEND;TZID=UTC:20191217T120000
DTSTAMP:20260425T154306
CREATED:20240608T151831Z
LAST-MODIFIED:20240608T151831Z
UID:8022-1576576800-1576584000@acadetroit.org
SUMMARY:Medical ESL Class
DESCRIPTION:Want to improve your English skills?\nThe classes will support proficiency in the English language when you visit a doctor at a hospital or a clinic. \n你是否一直想要提高自己的英语水平？ \n此课程将帮助您有效地提高就医所需地英语听说读写能力 \n时间 Time：9月10日2019 – 5月2020 (September 10\, 2019 – May\, 2020) \n地点 Location：Chinese Community Center
URL:https://acadetroit.org/events-calendar/medical-esl-class-11/
LOCATION:Chinese Community Center\, 32585 Concord Drive\, Madison Heights\, 48071\, United States
END:VEVENT
BEGIN:VEVENT
DTSTART;TZID=UTC:20191216T104000
DTEND;TZID=UTC:20191216T114000
DTSTAMP:20260425T154306
CREATED:20240608T153306Z
LAST-MODIFIED:20240608T153306Z
UID:8335-1576492800-1576496400@acadetroit.org
SUMMARY:EnhanceFitness Class
DESCRIPTION:老年朋友们一起来活动筋骨健身保健！美华底特律服务中心的健身保健班这周正式开始了！ \nHey our seniors friends\, come and join ACA’s EnhanceFitness classes to stay healthy and energetic! \n地点/Address：4750 Woodward Ave. Ste 211\, Detroit\, MI 48201-1300 \n时间/Time：每周一/周四早上10:40-11:40- Every Mon/Thur from 10:40 AM-11:40 AM
URL:https://acadetroit.org/events-calendar/enhancefitness-class-37/
LOCATION:Detroit Service Center\, 4750 Woodward Ave.\, Ste. 211 \, Detroit\, 48201\, MI\, United States
END:VEVENT
BEGIN:VEVENT
DTSTART;TZID=UTC:20191216T100000
DTEND;TZID=UTC:20191216T113000
DTSTAMP:20260425T154306
CREATED:20240608T151831Z
LAST-MODIFIED:20240608T151831Z
UID:8023-1576490400-1576495800@acadetroit.org
SUMMARY:Financial Aid and Retirement Planning
DESCRIPTION:Financial Aid and Retirement Planning \n教育基金申请和退休计划 \nA brief but comprehensive introduction \nHow to prepare for the high cost of college education and maximize the financial aid for your kids \nThe faced challenges of our dream retirement \nHow to reduce the market risk for our retirement plan \nThe cost of long-term-care in the nursing home and how to prepare it \nTime: December 16   10:00 AM – 11:30 AM \nLocation: Canton Summit Center   Room Art I \n46000 Summit Pkwy\, Canton\, MI 48188
URL:https://acadetroit.org/events-calendar/financial-aid-and-retirement-planning/
LOCATION:46000 Summit Pkwy\, Canton\, MI 48188\, 46000 Summit Pkwy\, Canton\, MI 48188\,\, United States
END:VEVENT
BEGIN:VEVENT
DTSTART;TZID=UTC:20191215T130000
DTEND;TZID=UTC:20191215T160000
DTSTAMP:20260425T154306
CREATED:20240608T151847Z
LAST-MODIFIED:20240608T151847Z
UID:8024-1576414800-1576425600@acadetroit.org
SUMMARY:Digital Inclusion Program
DESCRIPTION:This will be the 8th year in which the Association of Chinese Americans (ACA) is partnering with Comcast to offer the Digital Inclusion program to children ages 13-17. The program’s goal is to have students become proficient in digital literacy\, financial literacy and have a firm foundation of essential life skills. \nThis year\, the program will have two on-site locations at the Chinese Community Center (CCC) in Madison Heights and the Summit on the Park in Canton with the majority of the classes being taught online through Zoom. Classes will be taught on Sundays from 1 pm – 4 pm (time subject to change) and the tentative start date is Sunday\, December 1st.  \nThe program will run throughout the school year and will end in May 2020 with the tentative graduation day on Sunday\, June 7th\, 2020. The program will require a minimum of 50 hours of community service along with access to a computer and Internet at home.   \nAs an incentive\, participants who are able to meet the requirements will receive a personal computer. \nTo register\, please fill out the form here and for more information or questions\, please contact David Liou at dliou@acaccc.org.  \n\n今年美华协会与Comcast 合作的数字包容项目即将开启 \n该项目专为13-17岁学生设计，目标是通过一系列课程培养学生的数字素养，金融素养及生活技能基础。今年的课程将在Madison Heights 和Canton 同时进行，达到要求顺利毕业的学生可获得证书及个人电脑！ \n名额有限，欲报从速！！！ \n报名链接： https://forms.gle/bv8qZd7LFbQRJCpHA \n详情请见海报或致电248-585-9343/313-831-3790
URL:https://acadetroit.org/events-calendar/digital-inclusion-program-5/
LOCATION:Chinese Community Center\, 32585 Concord Drive\, Madison Heights\, 48071\, United States
END:VEVENT
BEGIN:VEVENT
DTSTART;TZID=UTC:20191213T120000
DTEND;TZID=UTC:20191213T140000
DTSTAMP:20260425T154306
CREATED:20240608T151847Z
LAST-MODIFIED:20240608T151847Z
UID:8025-1576238400-1576245600@acadetroit.org
SUMMARY:Medical ESL Class (Canton)
DESCRIPTION:Medical ESL Class(Canton) \nThe classes will support proficiency in the English language when you visit a doctor at a hospital or a clinic \nTime: 10月4日2019-5月2020 \n October 4\, 2019- May\, 2020 \nEvery Friday 12:00 pm- 14:00 pm \n Free Classes \n Location：*Room Art II* \n(46000 Summit Pkwy\, Canton\, MI 48188) \nCall for more information：248-585-9343 \n\n实用就医英语课(Canton) \n你是否一直想要提高自己的英语水平？ \n此课程将帮助您有效地提高就医所需的英语听说读写能力 \n时间：10月4日2019-5月2020 \n每周五 12:00 pm- 14:00 pm \n免费课程 \n地点 ：*Room Art II* \n(46000 Summit Pkwy\, Canton\, MI 48188) \n详情请致电：248-585-9343
URL:https://acadetroit.org/events-calendar/medical-esl-class-canton-9/
LOCATION:Room Art 2\, 46000 Summit Pkwy\, Canton\, MI 48188\, 46000 Summit Pkwy\, Canton\, MI 48188\,\, United States
END:VEVENT
BEGIN:VEVENT
DTSTART;TZID=UTC:20191212T104000
DTEND;TZID=UTC:20191212T114000
DTSTAMP:20260425T154306
CREATED:20240608T153308Z
LAST-MODIFIED:20240608T153308Z
UID:8336-1576147200-1576150800@acadetroit.org
SUMMARY:EnhanceFitness Class
DESCRIPTION:老年朋友们一起来活动筋骨健身保健！美华底特律服务中心的健身保健班这周正式开始了！ \nHey our seniors friends\, come and join ACA’s EnhanceFitness classes to stay healthy and energetic! \n地点/Address：4750 Woodward Ave. Ste 211\, Detroit\, MI 48201-1300 \n时间/Time：每周一/周四早上10:40-11:40- Every Mon/Thur from 10:40 AM-11:40 AM
URL:https://acadetroit.org/events-calendar/enhancefitness-class-38/
LOCATION:Detroit Service Center\, 4750 Woodward Ave.\, Ste. 211 \, Detroit\, 48201\, MI\, United States
END:VEVENT
BEGIN:VEVENT
DTSTART;TZID=UTC:20191210T110000
DTEND;TZID=UTC:20191210T190000
DTSTAMP:20260425T154306
CREATED:20240608T151848Z
LAST-MODIFIED:20240608T151848Z
UID:8026-1575975600-1576004400@acadetroit.org
SUMMARY:2019 Frankenmuth One-day Outing
DESCRIPTION:2019 Frankenmuth One-day Outing \n弗兰肯默斯一日游 \nTime：December 10th\, Tuesday 星期二 \n11 am- 7 pm \nLocation: Frankenmuth 弗兰肯默斯 \nDeadline 报名截止：November 29\, Friday \nFee 费用：Member $50 General $ 55 \n(includes transportation\, lunch\, snack & water\, bilingual services) \n(包括交通\, 午餐\, 零食和水\, 双语服务) \nPick-up Location 接送点 \nMadison Heights\, Canton\, Ann Arbor\, Westland \nActivities 活动内容： \nGerman Town in Frankenmuth \n弗兰肯默斯的德国小镇 \nLunch at the Bavarian Lodge Restaurant \n在巴伐利亚旅馆餐厅享用午餐 \nSeeing Christmas Light & Shopping \n赏千种圣诞装饰与手绘圣诞彩球 \nRSVP: https://forms.gle/bHif2M83pEAVcnKo8 \nRegistration Deadline: November 29\, Friday. \nFor more information详情咨询: 313-831-1790/248-585-9343 or stang@acaccc.org
URL:https://acadetroit.org/events-calendar/2019-frankenmuth-one-day-outing/
LOCATION:Frankenmuth\, Frankenmuth\,\, United States
END:VEVENT
BEGIN:VEVENT
DTSTART;TZID=UTC:20191210T100000
DTEND;TZID=UTC:20191210T120000
DTSTAMP:20260425T154306
CREATED:20240608T151848Z
LAST-MODIFIED:20240608T151848Z
UID:8027-1575972000-1575979200@acadetroit.org
SUMMARY:Medical ESL Class
DESCRIPTION:Want to improve your English skills?\nThe classes will support proficiency in the English language when you visit a doctor at a hospital or a clinic. \n你是否一直想要提高自己的英语水平？ \n此课程将帮助您有效地提高就医所需地英语听说读写能力 \n时间 Time：9月10日2019 – 5月2020 (September 10\, 2019 – May\, 2020) \n地点 Location：Chinese Community Center
URL:https://acadetroit.org/events-calendar/medical-esl-class-12/
LOCATION:Chinese Community Center\, 32585 Concord Drive\, Madison Heights\, 48071\, United States
END:VEVENT
BEGIN:VEVENT
DTSTART;TZID=UTC:20191209T104000
DTEND;TZID=UTC:20191209T114000
DTSTAMP:20260425T154306
CREATED:20240608T153309Z
LAST-MODIFIED:20240608T153309Z
UID:8337-1575888000-1575891600@acadetroit.org
SUMMARY:EnhanceFitness Class
DESCRIPTION:老年朋友们一起来活动筋骨健身保健！美华底特律服务中心的健身保健班这周正式开始了！ \nHey our seniors friends\, come and join ACA’s EnhanceFitness classes to stay healthy and energetic! \n地点/Address：4750 Woodward Ave. Ste 211\, Detroit\, MI 48201-1300 \n时间/Time：每周一/周四早上10:40-11:40- Every Mon/Thur from 10:40 AM-11:40 AM
URL:https://acadetroit.org/events-calendar/enhancefitness-class-39/
LOCATION:Detroit Service Center\, 4750 Woodward Ave.\, Ste. 211 \, Detroit\, 48201\, MI\, United States
END:VEVENT
END:VCALENDAR