BEGIN:VCALENDAR
VERSION:2.0
PRODID:-//ACA Detroit - ECPv6.15.20//NONSGML v1.0//EN
CALSCALE:GREGORIAN
METHOD:PUBLISH
X-WR-CALNAME:ACA Detroit
X-ORIGINAL-URL:https://acadetroit.org
X-WR-CALDESC:Events for ACA Detroit
REFRESH-INTERVAL;VALUE=DURATION:PT1H
X-Robots-Tag:noindex
X-PUBLISHED-TTL:PT1H
BEGIN:VTIMEZONE
TZID:UTC
BEGIN:STANDARD
TZOFFSETFROM:+0000
TZOFFSETTO:+0000
TZNAME:UTC
DTSTART:20110101T000000
END:STANDARD
END:VTIMEZONE
BEGIN:VEVENT
DTSTART;TZID=UTC:20220615T090000
DTEND;TZID=UTC:20220615T113000
DTSTAMP:20260423T210726
CREATED:20240531T143628Z
LAST-MODIFIED:20240531T143628Z
UID:7574-1655283600-1655292600@acadetroit.org
SUMMARY:June Health Screening Fairs 六月份健康檢查
DESCRIPTION:Wed. 6/15 @Detroit 9:00 a.m. – 11:30 a.m.
URL:https://acadetroit.org/events-calendar/june-health-screening-fairs-%e5%85%ad%e6%9c%88%e4%bb%bd%e5%81%a5%e5%ba%b7%e6%aa%a2%e6%9f%a5/
LOCATION:Detroit Service Center\, 4750 Woodward Ave.\, Ste. 211 \, Detroit\, 48201\, MI\, United States
END:VEVENT
BEGIN:VEVENT
DTSTART;TZID=UTC:20220312T090000
DTEND;TZID=UTC:20220312T120000
DTSTAMP:20260423T210726
CREATED:20240531T143559Z
LAST-MODIFIED:20240531T143559Z
UID:7566-1647075600-1647086400@acadetroit.org
SUMMARY:Health Screening Fair
DESCRIPTION:
URL:https://acadetroit.org/events-calendar/health-screening-fair/
LOCATION:ACA\, 32585 Concord Drive\, Madison Heights\, MI\, 48071\, United States
END:VEVENT
BEGIN:VEVENT
DTSTART;TZID=UTC:20120519T080000
DTEND;TZID=UTC:20120519T120000
DTSTAMP:20260423T210726
CREATED:20240608T153140Z
LAST-MODIFIED:20240608T153140Z
UID:8306-1337414400-1337428800@acadetroit.org
SUMMARY:PACCM Health & Wellness Fair
DESCRIPTION:This free fair which features health education and health screening services is being presented by the Philippine American Community Center of Michigan (PACCM) in partnership with the National Alliance to Nurture the Aged and the Youth (NANAY\, Inc.)\, World Medical Relief (WMR)\, DMC Huron Valley-Sinai Hospital & Sinai-Grace Hospital\, Wayne State University-Asian Pacific American Medical Student Association (WSU-APAMSA)\, the Mac Family and other allied health providers. \nHealth screenings/test procedures offered on a first come\, first served basis (supplies limited):\nCholesterol (requires 12 hr. fasting)\nHemoglobin\nDiabetes screening\nDipstick urinalysis\nBlood pressure\nEKG\nGlaucoma\nSkin cancer screening\nChiropractic screening\nBone density\nMassage therapy\nSelf-breast exam education\nBone marrow registry\nPhysical therapy screening\nCartoid doppler \nNo reservations are required. Walk-in only. First come\, first served. \nRegistration starts at 8:00am \nClick on the link below for the event flyer.
URL:https://acadetroit.org/events-calendar/paccm-health-wellness-fair/
LOCATION:Philippine American Community Center of Michigan (PACCM)\, 17356 Northland Park Court\, Southfield\, 48075\, United States
END:VEVENT
END:VCALENDAR