BEGIN:VCALENDAR
VERSION:2.0
PRODID:-//ACA Detroit - ECPv6.15.20//NONSGML v1.0//EN
CALSCALE:GREGORIAN
METHOD:PUBLISH
X-WR-CALNAME:ACA Detroit
X-ORIGINAL-URL:https://acadetroit.org
X-WR-CALDESC:Events for ACA Detroit
REFRESH-INTERVAL;VALUE=DURATION:PT1H
X-Robots-Tag:noindex
X-PUBLISHED-TTL:PT1H
BEGIN:VTIMEZONE
TZID:UTC
BEGIN:STANDARD
TZOFFSETFROM:+0000
TZOFFSETTO:+0000
TZNAME:UTC
DTSTART:20230101T000000
END:STANDARD
END:VTIMEZONE
BEGIN:VEVENT
DTSTART;TZID=UTC:20240708T000000
DTEND;TZID=UTC:20240802T235900
DTSTAMP:20260425T163018
CREATED:20240531T143331Z
LAST-MODIFIED:20240607T144624Z
UID:7532-1720396800-1722643140@acadetroit.org
SUMMARY:ACA 2024 Youth Cultural Summer Camp - Madison Heights
DESCRIPTION:
URL:https://acadetroit.org/events-calendar/aca-2024-youth-cultural-summer-camp-madison-heights/
LOCATION:ACA Chinese Community Center\, 32585 Concord Drive\, Madison Heights\, MI\, 48071-1141\, United States
END:VEVENT
BEGIN:VEVENT
DTSTART;TZID=UTC:20240708T000000
DTEND;TZID=UTC:20240802T235900
DTSTAMP:20260425T163018
CREATED:20240531T143331Z
LAST-MODIFIED:20240607T144657Z
UID:7533-1720396800-1722643140@acadetroit.org
SUMMARY:ACA 2024 Youth Cultural Summer Camp - Plymouth
DESCRIPTION:
URL:https://acadetroit.org/events-calendar/aca-2024-youth-cultural-summer-camp-plymouth/
LOCATION:Risen Christ Lutheran Church\, 46250 Ann Arbor Rd\, Plymouth\, MI\, 48170
END:VEVENT
BEGIN:VEVENT
DTSTART;TZID=UTC:20240806T090000
DTEND;TZID=UTC:20240806T113000
DTSTAMP:20260425T163018
CREATED:20240701T153501Z
LAST-MODIFIED:20240701T153501Z
UID:10533-1722934800-1722943800@acadetroit.org
SUMMARY:Health Screening Fair - (Detroit) 8/6/2024
DESCRIPTION:
URL:https://acadetroit.org/events-calendar/health-screening-fair-detroit-8-6-2024/
LOCATION:ACA Detroit Service Center\, 4750 Woodward Avenue\, #211\, Detroit\, MI\, 48201
CATEGORIES:Health Screening Fair
ORGANIZER;CN="Association of Chinese Americans":MAILTO:acadetroit@acaccc.org
END:VEVENT
END:VCALENDAR