BEGIN:VCALENDAR
VERSION:2.0
PRODID:-//ACA Detroit - ECPv6.15.20//NONSGML v1.0//EN
CALSCALE:GREGORIAN
METHOD:PUBLISH
X-WR-CALNAME:ACA Detroit
X-ORIGINAL-URL:https://acadetroit.org
X-WR-CALDESC:Events for ACA Detroit
REFRESH-INTERVAL;VALUE=DURATION:PT1H
X-Robots-Tag:noindex
X-PUBLISHED-TTL:PT1H
BEGIN:VTIMEZONE
TZID:UTC
BEGIN:STANDARD
TZOFFSETFROM:+0000
TZOFFSETTO:+0000
TZNAME:UTC
DTSTART:20240101T000000
END:STANDARD
END:VTIMEZONE
BEGIN:VEVENT
DTSTART;TZID=UTC:20251005T170000
DTEND;TZID=UTC:20251005T200000
DTSTAMP:20260424T135534
CREATED:20250523T163323Z
LAST-MODIFIED:20250819T174801Z
UID:11838-1759683600-1759694400@acadetroit.org
SUMMARY:ACA 53rd Annual Fundraising Gala
DESCRIPTION:Theme: E Pluribus Unum: Honoring Our Heritage\, Shaping Our Future \nDate Set for October 5\, 2025 at Italian American Banquet Center\, Livonia \nDetroit\, MI – May 22\, 2025 – The Association of Chinese Americans\, Inc. (ACA) proudly announces its 53rd Annual Fundraising Gala\, to be held on Sunday\, October 5\, 2025\, at the Italian American Banquet Center in Livonia\, Michigan. This year’s theme\, E Pluribus Unum: Honoring Our Heritage\, Shaping Our Future\, reflects ACA’s continued dedication to celebrating Asian American identity while building a more inclusive and united community for generations to come. \nAs ACA’s flagship fundraising event\, the Annual Gala brings together community leaders\, elected officials\, business professionals\, and advocates in support of ACA’s mission to promote the well-being of Asian Pacific Americans across the Metro Detroit region. Funds raised at this event will directly support ACA’s year-round programs in social services\, youth education\, senior care\, and cultural preservation. \n“We are proud to carry forward the legacy of our founders while responding to the evolving needs of our diverse community\,” said Peggy Du\, Executive Director of ACA. “This year’s theme reminds us that from many backgrounds and stories\, we come together as one community to create meaningful change.” \nThe evening will include a keynote address by a prominent figure (to be announced)\, a sit-down banquet dinner\, cultural performances\, recognition of outstanding community contributors\, and opportunities for attendees to support ACA through sponsorships and donations. \nGet your ticket here \nSponsorship packages and individual tickets will be available soon on ACA’s website at www.acadetroit.org. Early reservations are encouraged as space is limited. For media inquiries or sponsorship information\, please contact Tao Liu at tliu@acaccc.org or call 248-585-9343 / 313-831-1790.
URL:https://acadetroit.org/events-calendar/aca-53rd-annual-fundraising-gala/
LOCATION:Italian American Banquet Center\, 39200 Five Mile Rd\, Livonia\, MI\, 48154\, United States
CATEGORIES:Events,Fundraising
ATTACH;FMTTYPE=image/png:https://acadetroit.org/wp-content/uploads/2025/05/05232025-GALA2025.png
ORGANIZER;CN="Association of Chinese Americans":MAILTO:acadetroit@acaccc.org
END:VEVENT
BEGIN:VEVENT
DTSTART;TZID=UTC:20251018T090000
DTEND;TZID=UTC:20251018T113000
DTSTAMP:20260424T135534
CREATED:20250109T165507Z
LAST-MODIFIED:20250109T165654Z
UID:11352-1760778000-1760787000@acadetroit.org
SUMMARY:Health Screening Fair - (Madison Heights) 10/18/2025
DESCRIPTION:
URL:https://acadetroit.org/events-calendar/health-screening-fair-madison-heights-10-18-2025/
LOCATION:ACA Chinese Community Center\, 32585 Concord Drive\, Madison Heights\, MI\, 48071-1141\, United States
CATEGORIES:Health Screening Fair
ORGANIZER;CN="Association of Chinese Americans":MAILTO:acadetroit@acaccc.org
END:VEVENT
BEGIN:VEVENT
DTSTART;TZID=UTC:20251018T090000
DTEND;TZID=UTC:20251018T233000
DTSTAMP:20260424T135534
CREATED:20251009T184259Z
LAST-MODIFIED:20251015T144554Z
UID:12606-1760778000-1760830200@acadetroit.org
SUMMARY:Hepatitis B & Hepatitis C Screening 乙肝和丙肝筛查
DESCRIPTION:HEPATITIS B & HEPATITIS C SCREENING \nLOCATION: Chinese Community Center32585 Concord Dr\, Madison Heights\, MI 48071 \nDATE: Oct 18\, 2025 from 9:AM – 11:30 AM \n\nCome out for a free Hepatitis B/C screening\, learn more about risk factors and preventative modalities against Hepatitis B! \n\nWHY IT’S IMPORTANT!• Asian Americans make up 60% of Americans who are living with Hepatitis B• 2/3 Asian Americans who have Hepatitis B do not know that they are infected• The leading cause of death for Asian Americans is Hepatitis B related liver cancer \n\n \n乙肝和丙肝筛查 \n地点: 美华协会华人社区中心32585 Concord Dr\, Madison Heights\, MI 48071 \n活动日期：2025年10月18日，上午9:00 至中午11:30 \n欢迎参加免费乙肝筛查，了解更多乙肝风险因素和预防措施！ \n\n为何重要！– 亚裔美国人占美国乙肝感染者的 60%– 在亚裔美国人患有乙肝病毒中，2/3 并不知道自己已被感染– 亚裔美国人的主要死因是乙肝相关的肝癌
URL:https://acadetroit.org/events-calendar/hepatitis-screening/
END:VEVENT
END:VCALENDAR