BEGIN:VCALENDAR
VERSION:2.0
PRODID:-//ACA Detroit - ECPv6.15.20//NONSGML v1.0//EN
CALSCALE:GREGORIAN
METHOD:PUBLISH
X-ORIGINAL-URL:https://acadetroit.org
X-WR-CALDESC:Events for ACA Detroit
REFRESH-INTERVAL;VALUE=DURATION:PT1H
X-Robots-Tag:noindex
X-PUBLISHED-TTL:PT1H
BEGIN:VTIMEZONE
TZID:UTC
BEGIN:STANDARD
TZOFFSETFROM:+0000
TZOFFSETTO:+0000
TZNAME:UTC
DTSTART:20240101T000000
END:STANDARD
END:VTIMEZONE
BEGIN:VEVENT
DTSTART;TZID=UTC:20251115T090000
DTEND;TZID=UTC:20251115T110000
DTSTAMP:20260423T232913
CREATED:20250109T171145Z
LAST-MODIFIED:20251030T173808Z
UID:11365-1763197200-1763204400@acadetroit.org
SUMMARY:Health Screening Fair - (Madison Heights) 11/15/2025
DESCRIPTION:Latest Update: \nFor November\, the Health Screening will happen on 11/15 (Sat) from 9AM to 12 AM \nThe next Health Screening at Detroit will be on 12/2 (Tuesday). \n \n 
URL:https://acadetroit.org/events-calendar/health-screening-fair-madison-heights-11-15-2025/
LOCATION:ACA Chinese Community Center\, 32585 Concord Drive\, Madison Heights\, MI\, 48071-1141\, United States
CATEGORIES:Health Screening Fair
ORGANIZER;CN="Association of Chinese Americans":MAILTO:acadetroit@acaccc.org
END:VEVENT
END:VCALENDAR